{"text_format":"1","workbook":"xlsx","n_sheets":21,"sheets":["Инструкция","Чемп","Experts","Competitors","Э_Рег","Э_ТОиТБ","Э_30%","Э_Ведом","Э_Роли","У_Рег","У_ТОиТБ","У_Жереб","У_РабМеста","Э_РегЕжедн","У_РегЕжедн","У_НДок","У_КДок","У_Тулбокс","ВнешСит","УчетВремени","ПожБез"],"not_rendered":{"charts":0,"images":2,"macros":1,"external_links":0,"defined_names":18,"comments":0,"pivot_tables":0},"unopened":[],"bounds":{"document_bytes":16777216,"sheet_cells":100000,"rows_first":2000,"rows_last":500,"rows_between":2000,"halvings":0,"cell_chars":16384,"cell_head_chars":4096},"cells_cut":0,"cells_raw":0,"read":"whole","date_system":"1900"}

{"sheet":"Инструкция","index":0,"n_rows":12,"n_cols":5,"rows_kept":12,"cut":false,"hidden":false,"merged":[]}
[1,"Заполнить лист Чемп (название, дни чемпионата)"]
[2,"Заполнить лист Experts (ФИО экспертов)"]
[3,"Заполнить лист Competitors (ФИО участников)"]
[4,"В протоколах при необходимости нужно отображать или скрывать строки количества Экспертов (Участников)"]
[]
[null,"Эмблема WSR "]
[null,null,"находится в Колонтитуле и поэтому на листе не отображается"]
[null,null,"Отображается в предварительном просмотре"]
[null,null,"Выводится сразу на печать"]
[]
[null,"Вывод формы ОГЛАВЛЕНИЕ"]
[null,null,"CTRL+й","или","CTRL+q"]

{"sheet":"Чемп","index":1,"n_rows":13,"n_cols":5,"rows_kept":13,"cut":false,"hidden":false,"merged":[]}
["№",null,null,"Регион","Год"]
[null,null,"V Регионального чемпионата \"Молодые профессионалы\" (WorldSkills Russia) в городе Севастополе ",null,2020]
[]
["Компетенция","№ (заполнить)","Название (заполнить)"]
[]
["С-3","2020-11-30"]
["С-2","2020-12-01"]
["С-1","2020-12-02"]
["С1","2020-12-03"]
["С2","2020-12-04"]
["С3","2020-12-05"]
["С+1","2020-12-06"]
["С+2","2020-12-07"]

{"sheet":"Experts","index":2,"n_rows":50,"n_cols":9,"rows_kept":50,"cut":false,"hidden":false,"merged":[]}
["Главный эксперт",1,"Имя","Отчество",1,{"$f":"CONCATENATE(B1,\" \",C1,\" \",D1)","v":"1 Имя Отчество"},{"$f":"MID(C1,1,1)","v":"И"},"О",{"$f":"CONCATENATE(B1,\" \",G1,\".\",H1,\".\")","v":"1 И.О."}]
["Зам.гл.эксперта",2,"Имя","Отчество",2,{"$f":"CONCATENATE(B2,\" \",C2,\" \",D2)","v":"2 Имя Отчество"},"И","О",{"$f":"CONCATENATE(B2,\" \",G2,\".\",H2,\".\")","v":"2 И.О."}]
[null,3,"Имя","Отчество",3,{"$f":"CONCATENATE(B3,\" \",C3,\" \",D3)","v":"3 Имя Отчество"},"И","О",{"$f":"CONCATENATE(B3,\" \",G3,\".\",H3,\".\")","v":"3 И.О."}]
[null,4,"Имя","Отчество",4,{"$f":"CONCATENATE(B4,\" \",C4,\" \",D4)","v":"4 Имя Отчество"},{"$f":"MID(C4,1,1)","v":"И"},{"$f":"MID(D4,1,1)","v":"О"},{"$f":"CONCATENATE(B4,\" \",G4,\".\",H4,\".\")","v":"4 И.О."}]
[null,5,"Имя","Отчество",5,"5 Имя Отчество","И","О","5 И.О."]
[null,6,"Имя","Отчество",6,"6 Имя Отчество","И","О","6 И.О."]
[null,7,"Имя","Отчество",7,"7 Имя Отчество","И","О","7 И.О."]
[null,8,"Имя","Отчество",8,"8 Имя Отчество","И","О","8 И.О."]
[null,9,"Имя","Отчество",9,"9 Имя Отчество","И","О","9 И.О."]
[null,0,"Имя","Отчество",10,"0 Имя Отчество","И","О","0 И.О."]
[null,null,null,null,11,"  ","",""," .."]
[null,null,null,null,12,"  ","",""," .."]
[null,null,null,null,13,"  ","",""," .."]
[null,null,null,null,14,"  ","",""," .."]
[null,null,null,null,15,"  ","",""," .."]
[null,null,null,null,16,"  ","",""," .."]
[null,null,null,null,17,"  ","",""," .."]
[null,null,null,null,18,"  ","",""," .."]
[null,null,null,null,19,"  ","",""," .."]
[null,null,null,null,20,"  ","",""," .."]
[null,null,null,null,21,"  ","",""," .."]
[null,null,null,null,22,"  ","",""," .."]
[null,null,null,null,23,"  ","",""," .."]
[null,null,null,null,24,"  ","",""," .."]
[null,null,null,null,25,"  ","",""," .."]
[null,null,null,null,26,"  ","",""," .."]
[null,null,null,null,27,"  ","",""," .."]
[null,null,null,null,28,"  ","",""," .."]
[null,null,null,null,29,"  ","",""," .."]
[null,null,null,null,30,"  ","",""," .."]
[null,null,null,null,31,"  ","",""," .."]
[null,null,null,null,32,"  ","",""," .."]
[null,null,null,null,33,"  ","",""," .."]
[null,null,null,null,34,"  ","",""," .."]
[null,null,null,null,35,"  ","",""," .."]
[null,null,null,null,36,"  ","",""," .."]
[null,null,null,null,37,"  ","",""," .."]
[null,null,null,null,38,"  ","",""," .."]
[null,null,null,null,39,"  ","",""," .."]
[null,null,null,null,40,"  ","",""," .."]
[null,null,null,null,41,"  ","",""," .."]
[null,null,null,null,42,"  ","",""," .."]
[null,null,null,null,43,"  ","",""," .."]
[null,null,null,null,44,"  ","",""," .."]
[null,null,null,null,45,"  ","",""," .."]
[null,null,null,null,46,"  ","",""," .."]
[null,null,null,null,47,"  ","",""," .."]
[null,null,null,null,48,"  ","",""," .."]
[null,null,null,null,49,"  ","",""," .."]
[null,null,null,null,50,"  ","",""," .."]

{"sheet":"Competitors","index":3,"n_rows":50,"n_cols":6,"rows_kept":50,"cut":false,"hidden":false,"merged":[]}
["Участники","Фамилия","Имя","Отчество",1,{"$f":"CONCATENATE(B1,\" \",C1,\" \",D1)","v":"Фамилия Имя Отчество"}]
[null,"Фамилия","Имя","Отчество",2,{"$f":"CONCATENATE(B2,\" \",C2,\" \",D2)","v":"Фамилия Имя Отчество"}]
[null,"Фамилия","Имя","Отчество",3,"Фамилия Имя Отчество"]
[null,"Фамилия","Имя","Отчество",4,"Фамилия Имя Отчество"]
[null,"Фамилия","Имя","Отчество",5,"Фамилия Имя Отчество"]
[null,"Фамилия","Имя","Отчество",6,"Фамилия Имя Отчество"]
[null,"Фамилия","Имя","Отчество",7,"Фамилия Имя Отчество"]
[null,"Фамилия","Имя","Отчество",8,"Фамилия Имя Отчество"]
[null,"Фамилия","Имя","Отчество",9,"Фамилия Имя Отчество"]
[null,"Фамилия","Имя","Отчество",10,"Фамилия Имя Отчество"]
[null,"Фамилия","Имя","Отчество",11,"Фамилия Имя Отчество"]
[null,"Фамилия","Имя","Отчество",12,"Фамилия Имя Отчество"]
[null,"Фамилия","Имя","Отчество",13,"Фамилия Имя Отчество"]
[null,"Фамилия","Имя","Отчество",14,"Фамилия Имя Отчество"]
[null,null,null,null,15,"  "]
[null,null,null,null,16,"  "]
[null,null,null,null,17,"  "]
[null,null,null,null,18,"  "]
[null,null,null,null,19,"  "]
[null,null,null,null,20,"  "]
[null,null,null,null,21,"  "]
[null,null,null,null,22,"  "]
[null,null,null,null,23,"  "]
[null,null,null,null,24,"  "]
[null,null,null,null,25,"  "]
[null,null,null,null,26,"  "]
[null,null,null,null,27,"  "]
[null,null,null,null,28,"  "]
[null,null,null,null,29,"  "]
[null,null,null,null,30,"  "]
[null,null,null,null,31,"  "]
[null,null,null,null,32,"  "]
[null,null,null,null,33,"  "]
[null,null,null,null,34,"  "]
[null,null,null,null,35,"  "]
[null,null,null,null,36,"  "]
[null,null,null,null,37,"  "]
[null,null,null,null,38,"  "]
[null,null,null,null,39,"  "]
[null,null,null,null,40,"  "]
[null,null,null,null,41,"  "]
[null,null,null,null,42,"  "]
[null,null,null,null,43,"  "]
[null,null,null,null,44,"  "]
[null,null,null,null,45,"  "]
[null,null,null,null,46,"  "]
[null,null,null,null,47,"  "]
[null,null,null,null,48,"  "]
[null,null,null,null,49,"  "]
[null,null,null,null,50,"  "]

{"sheet":"Э_Рег","index":4,"n_rows":35,"n_cols":26,"rows_kept":35,"cut":false,"hidden":false,"merged":[[9,2,9,14],[9,15,9,24],[9,25,9,29],[10,2,10,14],[10,15,10,24],[10,25,10,29],[11,2,11,14],[11,15,11,24],[2,0,2,8],[2,9,2,29],[3,0,3,8],[4,0,4,11],[6,0,6,1],[6,2,6,14],[6,15,6,24],[6,25,6,29],[7,2,7,14],[7,15,7,24],[7,25,7,29],[8,2,8,14],[8,15,8,24],[8,25,8,29],[18,2,18,14],[18,15,18,24],[18,25,18,29],[11,25,11,29],[12,2,12,14],[13,2,13,14],[14,2,14,14],[15,2,15,14],[12,15,12,24],[12,25,12,29],[13,15,13,24],[13,25,13,29],[14,15,14,24],[14,25,14,29],[15,15,15,24],[15,25,15,29],[16,2,16,14],[16,15,16,24],[16,25,16,29],[17,2,17,14],[17,15,17,24],[17,25,17,29],[21,2,21,14],[21,15,21,24],[21,25,21,29],[22,2,22,14],[22,15,22,24],[22,25,22,29],[19,2,19,14],[19,15,19,24],[19,25,19,29],[20,2,20,14],[20,15,20,24],[20,25,20,29],[23,15,23,24],[23,25,23,29],[25,2,25,14],[25,15,25,24],[25,25,25,29],[24,2,24,14],[24,15,24,24],[24,25,24,29],[23,2,23,14],[29,15,29,24],[29,25,29,29],[26,2,26,14],[26,15,26,24],[26,25,26,29],[27,2,27,14],[27,15,27,24],[27,25,27,29],[34,24,34,29],[1,2,1,27],[33,4,33,10],[33,0,33,3],[33,17,33,23],[33,24,33,29],[30,2,30,14],[30,15,30,24],[30,25,30,29],[31,2,31,14],[31,15,31,24],[31,25,31,29],[28,2,28,14],[28,15,28,24],[28,25,28,29],[29,2,29,14]]}
[]
[null,null,"Протокол регистрации экспертов чемпионата по стандартам WorldSkills Russia на конкурсной площадке "]
["Название чемпионата:",null,null,null,null,null,null,null,null,{"$f":"CONCATENATE(Чемп!A2,\" \",Чемп!B2,\" \",Чемп!C2,\" \",Чемп!D2,\" \",Чемп!E2)","v":"  V Регионального чемпионата \"Молодые профессионалы\" (WorldSkills Russia) в городе Севастополе   2020"}]
["Компетенция:",null,null,null,null,null,null,null,null,{"$f":"CONCATENATE(Чемп!B4,\" \",Чемп!C4)","v":"№ (заполнить) Название (заполнить)"}]
[{"$f":"У_Рег!B5","v":"ГЭ на площадке"},null,null,null,null,null,null,null,null,null,null,null,{"$f":"CONCATENATE(Experts!B1,\" \",Experts!C1,\" \",Experts!D1)","v":"1 Имя Отчество"}]
[]
["№ п.п.",null,"ФИО эксперта",null,null,null,null,null,null,null,null,null,null,null,null,"Дата рождения",null,null,null,null,null,null,null,null,null,"Подпись"]
[1,".",{"$f":"Experts!F1","v":"1 Имя Отчество"}]
[2,".",{"$f":"Experts!F2","v":"2 Имя Отчество"}]
[3,".",{"$f":"Experts!F3","v":"3 Имя Отчество"}]
[4,".",{"$f":"Experts!F4","v":"4 Имя Отчество"}]
[5,".",{"$f":"Experts!F5","v":"5 Имя Отчество"}]
[6,".",{"$f":"Experts!F6","v":"6 Имя Отчество"}]
[7,".",{"$f":"Experts!F7","v":"7 Имя Отчество"}]
[8,".",{"$f":"Experts!F8","v":"8 Имя Отчество"}]
[9,".",{"$f":"Experts!F9","v":"9 Имя Отчество"}]
[10,".",{"$f":"Experts!F10","v":"0 Имя Отчество"}]
[11,".",{"$f":"Experts!F11","v":"  "}]
[12,".",{"$f":"Experts!F12","v":"  "}]
[13,".",{"$f":"Experts!F13","v":"  "}]
[14,".",{"$f":"Experts!F14","v":"  "}]
[15,".",{"$f":"Experts!F15","v":"  "}]
[16,".",{"$f":"Experts!F16","v":"  "}]
[17,".",{"$f":"Experts!F17","v":"  "}]
[18,".",{"$f":"Experts!F18","v":"  "}]
[19,".",{"$f":"Experts!F19","v":"  "}]
[20,".",{"$f":"Experts!F20","v":"  "}]
[21,".",{"$f":"Experts!F21","v":"  "}]
[22,".",{"$f":"Experts!F22","v":"  "}]
[23,".",{"$f":"Experts!F23","v":"  "}]
[24,".",{"$f":"Experts!F24","v":"  "}]
[25,".",{"$f":"Experts!F25","v":"  "}]
[]
["Дата:",null,null,null,{"$f":"Чемп!B6","v":"2020-11-30"},null,null,null,null,null,null,null,null,null,null,null,null,"Главный эксперт"]
[null,null,null,null,null,null,null,null,null,null,null,null,null,null,null,null,null,null,null,null,null,null,null,null,"(подпись)"]

{"sheet":"Э_ТОиТБ","index":5,"n_rows":37,"n_cols":27,"rows_kept":37,"cut":false,"hidden":false,"merged":[[31,3,31,15],[31,16,31,25],[31,26,31,30],[32,3,32,15],[32,16,32,25],[32,26,32,30],[36,25,36,30],[35,25,35,30],[33,3,33,15],[33,16,33,25],[33,26,33,30],[35,1,35,4],[35,18,35,24],[35,5,35,10],[26,3,26,15],[26,16,26,25],[26,26,26,30],[30,16,30,25],[30,26,30,30],[27,3,27,15],[27,16,27,25],[27,26,27,30],[28,3,28,15],[28,16,28,25],[28,26,28,30],[29,3,29,15],[29,16,29,25],[29,26,29,30],[30,3,30,15],[24,3,24,15],[24,16,24,25],[24,26,24,30],[25,3,25,15],[25,16,25,25],[25,26,25,30],[22,3,22,15],[22,16,22,25],[22,26,22,30],[23,3,23,15],[23,16,23,25],[23,26,23,30],[20,3,20,15],[20,16,20,25],[20,26,20,30],[21,3,21,15],[21,16,21,25],[21,26,21,30],[18,3,18,15],[18,16,18,25],[18,26,18,30],[19,3,19,15],[19,16,19,25],[19,26,19,30],[16,3,16,15],[16,16,16,25],[16,26,16,30],[17,3,17,15],[17,16,17,25],[17,26,17,30],[13,16,13,25],[12,26,12,30],[13,26,13,30],[15,3,15,15],[15,16,15,25],[15,26,15,30],[14,26,14,30],[13,3,13,15],[14,3,14,15],[14,16,14,25],[9,3,9,15],[10,3,10,15],[11,3,11,15],[12,3,12,15],[9,26,9,30],[10,26,10,30],[11,26,11,30],[9,16,9,25],[10,16,10,25],[11,16,11,25],[12,16,12,25],[8,1,8,2],[8,16,8,25],[8,3,8,15],[8,26,8,30],[1,1,1,30],[2,1,2,30],[3,1,3,9],[4,1,4,9],[3,10,3,30],[5,1,5,12],[6,1,6,12]]}
[]
[null,"Протокол чемпионата по стандартам WorldSkills Russia"]
[null,"об ознакомлении экспертов с правилами техники безопасности и охраны труда"]
[null,"Название чемпионата:",null,null,null,null,null,null,null,null,{"$f":"CONCATENATE(Чемп!A2,\" \",Чемп!B2,\" \",Чемп!C2,\" \",Чемп!D2,\" \",Чемп!E2)","v":"  V Регионального чемпионата \"Молодые профессионалы\" (WorldSkills Russia) в городе Севастополе   2020"}]
[null,"Компетенция:",null,null,null,null,null,null,null,null,{"$f":"CONCATENATE(Чемп!B4,\" \",Чемп!C4)","v":"№ (заполнить) Название (заполнить)"}]
[null,{"$f":"Э_Рег!A5","v":"ГЭ на площадке"},null,null,null,null,null,null,null,null,null,null,null,{"$f":"CONCATENATE(Experts!B1,\" \",Experts!C1,\" \",Experts!D1)","v":"1 Имя Отчество"}]
[1,"Провел инструктаж по ТБ и ТО:",null,null,null,null,null,null,null,null,null,null,null,{"$f":"VLOOKUP(A7,Experts!E1:F50,2)","v":"1 Имя Отчество"}]
[]
[null,"№ п.п.",null,"ФИО эксперта",null,null,null,null,null,null,null,null,null,null,null,null,"Комментарии и недопонимание по полученной информации и инструктажу (если есть)",null,null,null,null,null,null,null,null,null,"Подпись"]
[null,1,".",{"$f":"Experts!F1","v":"1 Имя Отчество"}]
[null,2,".",{"$f":"Experts!F2","v":"2 Имя Отчество"}]
[null,3,".",{"$f":"Experts!F3","v":"3 Имя Отчество"}]
[null,4,".",{"$f":"Experts!F4","v":"4 Имя Отчество"}]
[null,5,".",{"$f":"Experts!F5","v":"5 Имя Отчество"}]
[null,6,".",{"$f":"Experts!F6","v":"6 Имя Отчество"}]
[null,7,".",{"$f":"Experts!F7","v":"7 Имя Отчество"}]
[null,8,".",{"$f":"Experts!F8","v":"8 Имя Отчество"}]
[null,9,".",{"$f":"Experts!F9","v":"9 Имя Отчество"}]
[null,10,".",{"$f":"Experts!F10","v":"0 Имя Отчество"}]
[null,11,".",{"$f":"Experts!F11","v":"  "}]
[null,12,".",{"$f":"Experts!F12","v":"  "}]
[null,13,".",{"$f":"Experts!F13","v":"  "}]
[null,14,".",{"$f":"Experts!F14","v":"  "}]
[null,15,".",{"$f":"Experts!F15","v":"  "}]
[null,16,".",{"$f":"Experts!F16","v":"  "}]
[null,17,".",{"$f":"Experts!F17","v":"  "}]
[null,18,".",{"$f":"Experts!F18","v":"  "}]
[null,19,".",{"$f":"Experts!F19","v":"  "}]
[null,20,".",{"$f":"Experts!F20","v":"  "}]
[null,21,".",{"$f":"Experts!F21","v":"  "}]
[null,22,".",{"$f":"Experts!F22","v":"  "}]
[null,23,".",{"$f":"Experts!F23","v":"  "}]
[null,24,".",{"$f":"Experts!F24","v":"  "}]
[null,25,".",{"$f":"Experts!F25","v":"  "}]
["День"]
[-2,"Дата:",null,null,null,{"$f":"Чемп!B9+A36","v":"2020-12-01"},null,null,null,null,null,null,null,null,null,null,null,null,"Инструктаж провел"]
[null,null,null,null,null,null,null,null,null,null,null,null,null,null,null,null,null,null,null,null,null,null,null,null,null,"(подпись)"]

{"sheet":"Э_30%","index":6,"n_rows":37,"n_cols":26,"rows_kept":37,"cut":false,"hidden":false,"merged":[[1,0,1,29],[2,0,2,29],[3,0,3,8],[3,9,3,29],[4,0,4,8],[5,0,5,11],[8,0,8,1],[8,2,8,14],[8,15,8,24],[8,25,8,29],[9,2,9,14],[9,15,9,24],[9,25,9,29],[10,2,10,14],[10,15,10,24],[10,25,10,29],[11,2,11,14],[11,15,11,24],[11,25,11,29],[12,2,12,14],[12,15,12,24],[12,25,12,29],[13,2,13,14],[13,15,13,24],[13,25,13,29],[14,2,14,14],[14,15,14,24],[14,25,14,29],[15,2,15,14],[15,15,15,24],[15,25,15,29],[16,2,16,14],[16,15,16,24],[16,25,16,29],[17,2,17,14],[17,15,17,24],[17,25,17,29],[18,2,18,14],[18,15,18,24],[18,25,18,29],[19,2,19,14],[19,15,19,24],[19,25,19,29],[20,2,20,14],[20,15,20,24],[20,25,20,29],[21,2,21,14],[21,15,21,24],[21,25,21,29],[22,2,22,14],[22,15,22,24],[22,25,22,29],[23,2,23,14],[23,15,23,24],[23,25,23,29],[24,2,24,14],[24,15,24,24],[24,25,24,29],[25,2,25,14],[25,15,25,24],[25,25,25,29],[26,2,26,14],[26,15,26,24],[26,25,26,29],[27,2,27,14],[27,15,27,24],[27,25,27,29],[31,15,31,24],[31,25,31,29],[28,2,28,14],[28,15,28,24],[28,25,28,29],[29,2,29,14],[29,15,29,24],[29,25,29,29],[36,24,36,29],[6,1,6,28],[35,4,35,11],[35,0,35,3],[35,17,35,23],[35,24,35,29],[32,2,32,14],[32,15,32,24],[32,25,32,29],[33,2,33,14],[33,15,33,24],[33,25,33,29],[30,2,30,14],[30,15,30,24],[30,25,30,29],[31,2,31,14]]}
[]
["Протокол чемпионата по стандартам WorldSkills Russia"]
["об ознакомлении Экспертов с актуализированным конкурсным заданием и критериями оценки (после внесения 30% изменений)"]
["Название чемпионата:",null,null,null,null,null,null,null,null,{"$f":"CONCATENATE(Чемп!A2,\" \",Чемп!B2,\" \",Чемп!C2,\" \",Чемп!D2,\" \",Чемп!E2)","v":"  V Регионального чемпионата \"Молодые профессионалы\" (WorldSkills Russia) в городе Севастополе   2020"}]
["Компетенция:",null,null,null,null,null,null,null,null,{"$f":"CONCATENATE(Чемп!B4,\" \",Чемп!C4)","v":"№ (заполнить) Название (заполнить)"}]
["ГЭ на площадке",null,null,null,null,null,null,null,null,null,null,null,{"$f":"CONCATENATE(Experts!B1,\" \",Experts!C1,\" \",Experts!D1)","v":"1 Имя Отчество"}]
[null,"Мы, нижеподписавшиеся, подтверждаем, что нам была предоставлена возможность участвовать во внесении 30% изменений в Конкурсное задание (в соответствии с Регламентом чемпионата и, если предполагается, по утвержденному ТО), полноценно ознакомиться с  актуализированным Конкурсным заданием и Критериями оценки."]
[]
["№ п.п.",null,"ФИО эксперта",null,null,null,null,null,null,null,null,null,null,null,null,"Комментарии и недопонимание по полученной информации и инструктажу (если есть)",null,null,null,null,null,null,null,null,null,"Подпись"]
[1,".",{"$f":"Experts!F1","v":"1 Имя Отчество"}]
[2,".",{"$f":"Experts!F2","v":"2 Имя Отчество"}]
[3,".",{"$f":"Experts!F3","v":"3 Имя Отчество"}]
[4,".",{"$f":"Experts!F4","v":"4 Имя Отчество"}]
[5,".",{"$f":"Experts!F5","v":"5 Имя Отчество"}]
[6,".",{"$f":"Experts!F6","v":"6 Имя Отчество"}]
[7,".",{"$f":"Experts!F7","v":"7 Имя Отчество"}]
[8,".",{"$f":"Experts!F8","v":"8 Имя Отчество"}]
[9,".",{"$f":"Experts!F9","v":"9 Имя Отчество"}]
[10,".",{"$f":"Experts!F10","v":"0 Имя Отчество"}]
[11,".",{"$f":"Experts!F11","v":"  "}]
[12,".",{"$f":"Experts!F12","v":"  "}]
[13,".",{"$f":"Experts!F13","v":"  "}]
[14,".",{"$f":"Experts!F14","v":"  "}]
[15,".",{"$f":"Experts!F15","v":"  "}]
[16,".",{"$f":"Experts!F16","v":"  "}]
[17,".",{"$f":"Experts!F17","v":"  "}]
[18,".",{"$f":"Experts!F18","v":"  "}]
[19,".",{"$f":"Experts!F19","v":"  "}]
[20,".",{"$f":"Experts!F20","v":"  "}]
[21,".",{"$f":"Experts!F21","v":"  "}]
[22,".",{"$f":"Experts!F22","v":"  "}]
[23,".",{"$f":"Experts!F23","v":"  "}]
[24,".",{"$f":"Experts!F24","v":"  "}]
[25,".",{"$f":"Experts!F25","v":"  "}]
[]
["Дата:",null,null,null,{"$f":"Чемп!B7","v":"2020-12-01"},null,null,null,null,null,null,null,null,null,null,null,null,"Главный эксперт"]
[null,null,null,null,null,null,null,null,null,null,null,null,null,null,null,null,null,null,null,null,null,null,null,null,"(подпись)"]

{"sheet":"Э_Ведом","index":7,"n_rows":33,"n_cols":37,"rows_kept":33,"cut":false,"hidden":false,"merged":[[5,0,5,11],[1,0,1,29],[2,0,2,29],[3,0,3,8],[3,9,3,29],[4,0,4,8],[10,25,10,29],[11,25,11,29],[6,0,6,11],[8,0,8,1],[8,25,8,29],[9,25,9,29],[7,0,7,29],[14,25,14,29],[15,25,15,29],[14,2,14,24],[15,2,15,24],[12,25,12,29],[13,25,13,29],[18,25,18,29],[19,25,19,29],[18,2,18,24],[19,2,19,24],[16,25,16,29],[17,25,17,29],[16,2,16,24],[17,2,17,24],[22,25,22,29],[23,25,23,29],[22,2,22,24],[23,2,23,24],[20,25,20,29],[21,25,21,29],[20,2,20,24],[21,2,21,24],[26,25,26,29],[27,25,27,29],[26,2,26,24],[27,2,27,24],[24,25,24,29],[25,25,25,29],[24,2,24,24],[25,2,25,24],[32,24,32,29],[6,12,6,25],[8,2,8,24],[9,2,9,24],[10,2,10,24],[11,2,11,24],[12,2,12,24],[13,2,13,24],[31,0,31,3],[31,17,31,23],[31,24,31,29],[31,4,31,10],[28,25,28,29],[29,25,29,29],[28,2,28,24],[29,2,29,24]]}
[]
["Протокол чемпионата по стандартам WorldSkills Russia"]
["об ознакомлении с ведомостями оценки "]
["Название чемпионата:",null,null,null,null,null,null,null,null,{"$f":"CONCATENATE(Чемп!A2,\" \",Чемп!B2,\" \",Чемп!C2,\" \",Чемп!D2,\" \",Чемп!E2)","v":"  V Регионального чемпионата \"Молодые профессионалы\" (WorldSkills Russia) в городе Севастополе   2020"}]
["Компетенция:",null,null,null,null,null,null,null,null,{"$f":"CONCATENATE(Чемп!B4,\" \",Чемп!C4)","v":"№ (заполнить) Название (заполнить)"}]
["ГЭ на площадке",null,null,null,null,null,null,null,null,null,null,null,{"$f":"CONCATENATE(Experts!B1,\" \",Experts!C1,\" \",Experts!D1)","v":"1 Имя Отчество"}]
["Штамп времени на ведомостях",null,null,null,null,null,null,null,null,null,null,null,null,null,null,null,null,null,null,null,null,null,null,null,null,null,null,null,null,null,null,null,null,null,null,null,3]
["Мы, нижеподписавшиеся Эксперты, внимательно изучили Ведомости оценки с указанным временным штампом блокировки, прочитали каждый аспект и пояснения к нему (при наличии) и подтверждаем, что все аспекты сформулированы корректно, однозначно, соответствуют терминологии, принятой в данной компетенции и могут быть использованы для оценки представленного Конкурсного задания."]
["№ п.п.",null,"ФИО экспертов",null,null,null,null,null,null,null,null,null,null,null,null,null,null,null,null,null,null,null,null,null,null,"Подпись"]
[1,".",{"$f":"Experts!F1","v":"1 Имя Отчество"}]
[2,".",{"$f":"Experts!F2","v":"2 Имя Отчество"}]
[3,".",{"$f":"Experts!F3","v":"3 Имя Отчество"}]
[4,".",{"$f":"Experts!F4","v":"4 Имя Отчество"}]
[5,".",{"$f":"Experts!F5","v":"5 Имя Отчество"}]
[6,".",{"$f":"Experts!F6","v":"6 Имя Отчество"}]
[7,".",{"$f":"Experts!F7","v":"7 Имя Отчество"}]
[8,".",{"$f":"Experts!F8","v":"8 Имя Отчество"}]
[9,".",{"$f":"Experts!F9","v":"9 Имя Отчество"}]
[10,".",{"$f":"Experts!F10","v":"0 Имя Отчество"}]
[15,".",{"$f":"Experts!F11","v":"  "}]
[16,".",{"$f":"Experts!F16","v":"  "}]
[17,".",{"$f":"Experts!F17","v":"  "}]
[18,".",{"$f":"Experts!F18","v":"  "}]
[19,".",{"$f":"Experts!F19","v":"  "}]
[20,".",{"$f":"Experts!F20","v":"  "}]
[21,".",{"$f":"Experts!F21","v":"  "}]
[22,".",{"$f":"Experts!F22","v":"  "}]
[23,".",{"$f":"Experts!F23","v":"  "}]
[24,".",{"$f":"Experts!F24","v":"  "}]
[25,".",{"$f":"Experts!F25","v":"  "}]
[]
["Дата:",null,null,null,{"$f":"Чемп!B7","v":"2020-12-01"},null,null,null,null,null,null,null,null,null,null,null,null,"Главный эксперт"]
[null,null,null,null,null,null,null,null,null,null,null,null,null,null,null,null,null,null,null,null,null,null,null,null,"(подпись)"]

{"sheet":"Э_Роли","index":8,"n_rows":36,"n_cols":26,"rows_kept":36,"cut":false,"hidden":false,"merged":[[8,14,8,23],[8,24,8,28],[9,14,9,23],[9,24,9,28],[8,7,8,13],[9,7,9,13],[1,3,1,28],[2,1,2,9],[3,1,3,9],[4,1,4,12],[7,14,7,23],[7,24,7,28],[7,7,7,13],[2,10,2,29],[12,14,12,23],[12,24,12,28],[13,14,13,23],[13,24,13,28],[12,7,12,13],[13,7,13,13],[10,14,10,23],[10,24,10,28],[11,14,11,23],[11,24,11,28],[10,7,10,13],[11,7,11,13],[14,14,14,23],[14,24,14,28],[15,14,15,23],[15,24,15,28],[15,1,15,6],[14,7,14,13],[15,7,15,13],[16,1,16,6],[16,7,16,13],[18,14,18,23],[18,24,18,28],[19,14,19,23],[19,24,19,28],[18,1,18,6],[18,7,18,13],[19,1,19,6],[19,7,19,13],[16,14,16,23],[16,24,16,28],[17,14,17,23],[17,24,17,28],[17,1,17,6],[17,7,17,13],[22,14,22,23],[22,24,22,28],[23,14,23,23],[23,24,23,28],[22,1,22,6],[22,7,22,13],[23,1,23,6],[23,7,23,13],[20,14,20,23],[20,24,20,28],[21,14,21,23],[21,24,21,28],[20,1,20,6],[20,7,20,13],[21,1,21,6],[21,7,21,13],[26,14,26,23],[26,24,26,28],[27,14,27,23],[27,24,27,28],[26,1,26,6],[26,7,26,13],[27,1,27,6],[27,7,27,13],[24,14,24,23],[24,24,24,28],[25,14,25,23],[25,24,25,28],[24,1,24,6],[24,7,24,13],[25,1,25,6],[25,7,25,13],[30,7,30,13],[31,1,31,6],[31,7,31,13],[28,14,28,23],[28,24,28,28],[29,14,29,23],[29,24,29,28],[28,1,28,6],[28,7,28,13],[29,1,29,6],[29,7,29,13],[5,0,7,0],[35,25,35,30],[5,2,5,29],[7,1,7,6],[8,1,8,6],[9,1,9,6],[10,1,10,6],[11,1,11,6],[12,1,12,6],[13,1,13,6],[14,1,14,6],[32,14,32,23],[32,24,32,28],[34,1,34,4],[34,5,34,11],[34,18,34,24],[34,25,34,30],[32,1,32,6],[32,7,32,13],[30,14,30,23],[30,24,30,28],[31,14,31,23],[31,24,31,28],[30,1,30,6]]}
[]
[null,null,null,"Протокол распределения судейских ролей на чемпионате \nпо стандартам WorldSkills Russia"]
[null,"Название чемпионата:",null,null,null,null,null,null,null,null,{"$f":"CONCATENATE(Чемп!A2,\" \",Чемп!B2,\" \",Чемп!C2,\" \",Чемп!D2,\" \",Чемп!E2)","v":"  V Регионального чемпионата \"Молодые профессионалы\" (WorldSkills Russia) в городе Севастополе   2020"}]
[null,"Компетенция:",null,null,null,null,null,null,null,null,{"$f":"CONCATENATE(Чемп!B4,\" \",Чемп!C4)","v":"№ (заполнить) Название (заполнить)"}]
[null,"ГЭ на площадке",null,null,null,null,null,null,null,null,null,null,null,{"$f":"CONCATENATE(Experts!B1,\" \",Experts!C1,\" \",Experts!D1)","v":"1 Имя Отчество"}]
["Введите номера экспертов с листа Experts (изменение цифры)",null,"Мы, нижеподписавшиеся, ознакомлены с данным протоколом, подтверждаем свою компетентность для выполнения закрепленных за нами функций и подтверждаем свое согласие на их выполнение."]
[]
[null,"Эксперты на площадке",null,null,null,null,null,"Зона ответственности",null,null,null,null,null,null,"Функционал",null,null,null,null,null,null,null,null,null,"Подпись"]
[2,{"$f":"VLOOKUP(A9,Эксперты,5)","v":"2 И.О."},null,null,null,null,null,"Зам.главного эксперта",null,null,null,null,null,null,"Помощь главному эксперту в работе на площадке"]
[1,"1 И.О.",null,null,null,null,null,"CIS",null,null,null,null,null,null,"Внесение оценок в систему CIS"]
[9,{"$f":"VLOOKUP(A11,Эксперты,5)","v":"9 И.О."},null,null,null,null,null,"Тех. обеспечение площадки",null,null,null,null,null,null,"Обеспечение площадки расходными материалами, решение технических вопросов с оборудованием и инфраструктурой."]
[3,"3 И.О.",null,null,null,null,null,"Охрана труда",null,null,null,null,null,null,"Контроль выполнения условий безопасного нахождения и работы на площадке."]
[8,"8 И.О.",null,null,null,null,null,"Хронометраж",null,null,null,null,null,null,"Учет времени выполнения работы участниками."]
[4,"4 И.О.",null,null,null,null,null,"Контакты с посетителями, прессой",null,null,null,null,null,null,"Общение с посетителями, прессой, тимлидерами команд"]
[1,"1 И.О.",null,null,null,null,null,"Развитие компетенции",null,null,null,null,null,null,"Анализ возможностей для развития конкурсной документации для следующих чемпионатов. Формулирование предложений для экспертного сообщества."]
[5,"5 И.О.",null,null,null,null,null,"Документы",null,null,null,null,null,null,"Проверка документов, составление и сбор протоколов"]
[3,"3 И.О.",null,null,null,null,null,"Судейство"]
[4,"4 И.О.",null,null,null,null,null,"Судейство"]
[5,"5 И.О.",null,null,null,null,null,"Судейство"]
[6,"6 И.О.",null,null,null,null,null,"Судейство"]
[7,"7 И.О.",null,null,null,null,null,"Судейство"]
[8,"8 И.О.",null,null,null,null,null,"Судейство"]
[9,"9 И.О.",null,null,null,null,null,"Судейство"]
[10,"0 И.О.",null,null,null,null,null,"Судейство"]
[11," ..",null,null,null,null,null,"Судейство"]
[12," ..",null,null,null,null,null,"Судейство"]
[13," ..",null,null,null,null,null,"Судейство"]
[14," ..",null,null,null,null,null,"Судейство"]
[15," ..",null,null,null,null,null,"Судейство"]
[16," ..",null,null,null,null,null,"Судейство"]
[17," ..",null,null,null,null,null,"Судейство"]
[18," ..",null,null,null,null,null,"Судейство"]
[19," ..",null,null,null,null,null,"Судейство"]
[]
[null,"Дата:",null,null,null,{"$f":"Чемп!B7","v":"2020-12-01"},null,null,null,null,null,null,null,null,null,null,null,null,"Главный эксперт"]
[null,null,null,null,null,null,null,null,null,null,null,null,null,null,null,null,null,null,null,null,null,null,null,null,null,"(подпись)"]

{"sheet":"У_Рег","index":9,"n_rows":38,"n_cols":27,"rows_kept":38,"cut":false,"hidden":false,"merged":[[7,1,7,2],[7,3,7,15],[7,16,7,25],[7,26,7,30],[1,3,1,28],[2,1,2,9],[2,10,2,30],[3,1,3,9],[4,1,4,12],[8,3,8,15],[8,16,8,25],[8,26,8,30],[9,3,9,15],[9,16,9,25],[9,26,9,30],[10,3,10,15],[10,16,10,25],[10,26,10,30],[11,3,11,15],[11,16,11,25],[11,26,11,30],[12,3,12,15],[12,16,12,25],[12,26,12,30],[15,3,15,15],[15,16,15,25],[15,26,15,30],[13,3,13,15],[14,3,14,15],[13,16,13,25],[14,16,14,25],[13,26,13,30],[14,26,14,30],[16,3,16,15],[16,16,16,25],[16,26,16,30],[17,3,17,15],[17,16,17,25],[17,26,17,30],[18,3,18,15],[18,16,18,25],[18,26,18,30],[19,3,19,15],[19,16,19,25],[19,26,19,30],[20,3,20,15],[20,16,20,25],[20,26,20,30],[21,3,21,15],[21,16,21,25],[21,26,21,30],[22,3,22,15],[22,16,22,25],[22,26,22,30],[23,3,23,15],[23,16,23,25],[23,26,23,30],[24,3,24,15],[24,16,24,25],[24,26,24,30],[25,3,25,15],[25,16,25,25],[25,26,25,30],[26,3,26,15],[26,16,26,25],[26,26,26,30],[27,3,27,15],[27,16,27,25],[27,26,27,30],[28,3,28,15],[28,16,28,25],[28,26,28,30],[29,3,29,15],[29,16,29,25],[29,26,29,30],[30,16,30,25],[30,26,30,30],[31,3,31,15],[31,16,31,25],[31,26,31,30],[37,25,37,30],[5,1,5,12],[3,0,4,0],[34,3,34,15],[34,16,34,25],[34,26,34,30],[36,1,36,4],[36,5,36,11],[36,25,36,30],[32,3,32,15],[32,16,32,25],[32,26,32,30],[33,3,33,15],[33,16,33,25],[33,26,33,30],[30,3,30,15]]}
[]
[null,null,null,"Протокол чемпионата по стандартам WorldSkills Russia о регистрации конкурсантов и их соответствии возрастному цензу  "]
[null,"Название чемпионата:",null,null,null,null,null,null,null,null,{"$f":"CONCATENATE(Чемп!A2,\" \",Чемп!B2,\" \",Чемп!C2,\" \",Чемп!D2,\" \",Чемп!E2)","v":"  V Регионального чемпионата \"Молодые профессионалы\" (WorldSkills Russia) в городе Севастополе   2020"}]
["Введите номер эксперта с листа Experts","Компетенция:",null,null,null,null,null,null,null,null,{"$f":"CONCATENATE(Чемп!B4,\" \",Чемп!C4)","v":"№ (заполнить) Название (заполнить)"}]
[null,"ГЭ на площадке",null,null,null,null,null,null,null,null,null,null,null,{"$f":"CONCATENATE(Experts!B1,\" \",Experts!C1,\" \",Experts!D1)","v":"1 Имя Отчество"}]
[1,"Эксперт, ответственный за проверку документов:",null,null,null,null,null,null,null,null,null,null,null,{"$f":"VLOOKUP(A6,Эксперты,2)","v":"1 Имя Отчество"}]
[]
[null,"№ п.п.",null,"ФИО участника",null,null,null,null,null,null,null,null,null,null,null,null,"Дата рождения",null,null,null,null,null,null,null,null,null,"Подпись"]
[null,1,".",{"$f":"Competitors!F1","v":"Фамилия Имя Отчество"}]
[null,2,".",{"$f":"Competitors!F2","v":"Фамилия Имя Отчество"}]
[null,3,".",{"$f":"Competitors!F3","v":"Фамилия Имя Отчество"}]
[null,4,".",{"$f":"Competitors!F4","v":"Фамилия Имя Отчество"}]
[null,5,".",{"$f":"Competitors!F5","v":"Фамилия Имя Отчество"}]
[null,6,".",{"$f":"Competitors!F6","v":"Фамилия Имя Отчество"}]
[null,7,null,{"$f":"Competitors!F7","v":"Фамилия Имя Отчество"}]
[null,8,".",{"$f":"Competitors!F8","v":"Фамилия Имя Отчество"}]
[null,9,".",{"$f":"Competitors!F9","v":"Фамилия Имя Отчество"}]
[null,10,".",{"$f":"Competitors!F10","v":"Фамилия Имя Отчество"}]
[null,11,".",{"$f":"Competitors!F11","v":"Фамилия Имя Отчество"}]
[null,12,".",{"$f":"Competitors!F12","v":"Фамилия Имя Отчество"}]
[null,11,".",{"$f":"Competitors!F13","v":"Фамилия Имя Отчество"}]
[null,12,".",{"$f":"Competitors!F14","v":"Фамилия Имя Отчество"}]
[null,13,".",{"$f":"Competitors!F13","v":"Фамилия Имя Отчество"}]
[null,14,".",{"$f":"Competitors!F14","v":"Фамилия Имя Отчество"}]
[null,15,".",{"$f":"Competitors!F15","v":"  "}]
[null,16,".",{"$f":"Competitors!F16","v":"  "}]
[null,17,".",{"$f":"Competitors!F17","v":"  "}]
[null,18,".",{"$f":"Competitors!F18","v":"  "}]
[null,19,".",{"$f":"Competitors!F19","v":"  "}]
[null,20,".",{"$f":"Competitors!F20","v":"  "}]
[null,21,".",{"$f":"Competitors!F21","v":"  "}]
[null,22,".",{"$f":"Competitors!F22","v":"  "}]
[null,23,".",{"$f":"Competitors!F23","v":"  "}]
[null,24,".",{"$f":"Competitors!F24","v":"  "}]
[null,25,".",{"$f":"Competitors!F25","v":"  "}]
[]
[null,"Дата:",null,null,null,{"$f":"Чемп!B8","v":"2020-12-02"},null,null,null,null,null,null,null,null,"Ответственный за проверку"]
[null,null,null,null,null,null,null,null,null,null,null,null,null,null,null,null,null,null,null,null,null,null,null,null,null,"(подпись)"]

{"sheet":"У_ТОиТБ","index":10,"n_rows":39,"n_cols":27,"rows_kept":39,"cut":false,"hidden":false,"merged":[[38,25,38,30],[35,3,35,15],[35,16,35,25],[35,26,35,30],[37,1,37,4],[37,18,37,24],[37,25,37,30],[37,5,37,10],[33,3,33,15],[33,16,33,25],[33,26,33,30],[34,3,34,15],[34,16,34,25],[34,26,34,30],[31,3,31,15],[31,16,31,25],[31,26,31,30],[32,3,32,15],[32,16,32,25],[32,26,32,30],[29,3,29,15],[29,16,29,25],[29,26,29,30],[30,3,30,15],[30,16,30,25],[30,26,30,30],[27,3,27,15],[27,16,27,25],[27,26,27,30],[28,3,28,15],[28,16,28,25],[28,26,28,30],[25,3,25,15],[25,16,25,25],[25,26,25,30],[26,3,26,15],[26,16,26,25],[26,26,26,30],[23,3,23,15],[23,16,23,25],[23,26,23,30],[24,3,24,15],[24,16,24,25],[24,26,24,30],[21,3,21,15],[21,16,21,25],[21,26,21,30],[22,3,22,15],[22,16,22,25],[22,26,22,30],[19,3,19,15],[19,16,19,25],[19,26,19,30],[20,3,20,15],[20,16,20,25],[20,26,20,30],[17,3,17,15],[17,16,17,25],[17,26,17,30],[18,3,18,15],[18,16,18,25],[18,26,18,30],[13,3,13,15],[13,16,13,25],[13,26,13,30],[16,3,16,15],[16,16,16,25],[16,26,16,30],[14,3,14,15],[15,3,15,15],[14,16,14,25],[15,16,15,25],[15,26,15,30],[14,26,14,30],[11,3,11,15],[11,16,11,25],[11,26,11,30],[12,3,12,15],[12,16,12,25],[12,26,12,30],[8,26,8,30],[9,3,9,15],[9,16,9,25],[9,26,9,30],[10,3,10,15],[10,16,10,25],[10,26,10,30],[5,1,5,12],[6,1,6,12],[8,1,8,2],[8,3,8,15],[8,16,8,25],[3,1,3,9],[3,10,3,30],[4,1,4,9],[1,2,1,29],[2,2,2,29]]}
[]
[null,null,"Протокол чемпионата по стандартам WorldSkills Russia"]
[null,null,"об ознакомлении участников с правилами техники безопасности и охраны труда"]
[null,"Название чемпионата:",null,null,null,null,null,null,null,null,{"$f":"CONCATENATE(Чемп!A2,\" \",Чемп!B2,\" \",Чемп!C2,\" \",Чемп!D2,\" \",Чемп!E2)","v":"  V Регионального чемпионата \"Молодые профессионалы\" (WorldSkills Russia) в городе Севастополе   2020"}]
[null,"Компетенция:",null,null,null,null,null,null,null,null,{"$f":"CONCATENATE(Чемп!B4,\" \",Чемп!C4)","v":"№ (заполнить) Название (заполнить)"}]
[null,"ГЭ на площадке",null,null,null,null,null,null,null,null,null,null,null,{"$f":"CONCATENATE(Experts!B1,\" \",Experts!C1,\" \",Experts!D1)","v":"1 Имя Отчество"}]
[1,"Провел инструктаж по ТБ и ТО:",null,null,null,null,null,null,null,null,null,null,null,{"$f":"VLOOKUP(A7,Experts!E1:F50,2)","v":"1 Имя Отчество"}]
[]
[null,"№ п.п.",null,"ФИО участника",null,null,null,null,null,null,null,null,null,null,null,null,"Комментарии и недопонимание по полученной информации и инструктажу (если есть)",null,null,null,null,null,null,null,null,null,"Подпись"]
[null,1,".",{"$f":"Competitors!F1","v":"Фамилия Имя Отчество"}]
[null,2,".",{"$f":"Competitors!F2","v":"Фамилия Имя Отчество"}]
[null,3,".",{"$f":"Competitors!F3","v":"Фамилия Имя Отчество"}]
[null,4,".",{"$f":"Competitors!F4","v":"Фамилия Имя Отчество"}]
[null,5,".",{"$f":"Competitors!F5","v":"Фамилия Имя Отчество"}]
[null,6,".",{"$f":"Competitors!F6","v":"Фамилия Имя Отчество"}]
[null,7,".",{"$f":"Competitors!F7","v":"Фамилия Имя Отчество"}]
[null,8,".",{"$f":"Competitors!F8","v":"Фамилия Имя Отчество"}]
[null,7,".",{"$f":"Competitors!F9","v":"Фамилия Имя Отчество"}]
[null,8,".",{"$f":"Competitors!F8","v":"Фамилия Имя Отчество"}]
[null,9,".",{"$f":"Competitors!F9","v":"Фамилия Имя Отчество"}]
[null,10,".",{"$f":"Competitors!F10","v":"Фамилия Имя Отчество"}]
[null,11,".",{"$f":"Competitors!F11","v":"Фамилия Имя Отчество"}]
[null,12,".",{"$f":"Competitors!F12","v":"Фамилия Имя Отчество"}]
[null,13,".",{"$f":"Competitors!F13","v":"Фамилия Имя Отчество"}]
[null,14,".",{"$f":"Competitors!F14","v":"Фамилия Имя Отчество"}]
[null,15,".",{"$f":"Competitors!F15","v":"  "}]
[null,16,".",{"$f":"Competitors!F16","v":"  "}]
[null,17,".",{"$f":"Competitors!F17","v":"  "}]
[null,18,".",{"$f":"Competitors!F18","v":"  "}]
[null,19,".",{"$f":"Competitors!F19","v":"  "}]
[null,20,".",{"$f":"Competitors!F20","v":"  "}]
[null,21,".",{"$f":"Competitors!F21","v":"  "}]
[null,22,".",{"$f":"Competitors!F22","v":"  "}]
[null,23,".",{"$f":"Competitors!F23","v":"  "}]
[null,24,".",{"$f":"Competitors!F24","v":"  "}]
[null,25,".",{"$f":"Competitors!F25","v":"  "}]
["День"]
[-1,"Дата:",null,null,null,{"$f":"Чемп!B9+A38","v":"2020-12-02"},null,null,null,null,null,null,null,null,null,null,null,null,"Инструктаж провел"]
[null,null,null,null,null,null,null,null,null,null,null,null,null,null,null,null,null,null,null,null,null,null,null,null,null,"(подпись)"]

{"sheet":"У_Жереб","index":11,"n_rows":39,"n_cols":27,"rows_kept":39,"cut":false,"hidden":false,"merged":[[5,1,5,12],[1,1,1,30],[2,1,2,30],[3,1,3,9],[3,10,3,30],[4,1,4,9],[8,1,8,2],[8,3,8,15],[8,16,8,25],[8,26,8,30],[9,3,9,15],[9,16,9,25],[9,26,9,30],[10,3,10,15],[10,16,10,25],[10,26,10,30],[11,3,11,15],[11,16,11,25],[11,26,11,30],[12,3,12,15],[12,16,12,25],[12,26,12,30],[13,3,13,15],[13,16,13,25],[13,26,13,30],[16,3,16,15],[16,16,16,25],[16,26,16,30],[17,3,17,15],[17,16,17,25],[17,26,17,30],[18,3,18,15],[18,16,18,25],[18,26,18,30],[19,3,19,15],[19,16,19,25],[19,26,19,30],[20,3,20,15],[20,16,20,25],[20,26,20,30],[21,3,21,15],[21,16,21,25],[21,26,21,30],[22,3,22,15],[22,16,22,25],[22,26,22,30],[23,3,23,15],[23,16,23,25],[23,26,23,30],[24,3,24,15],[24,16,24,25],[24,26,24,30],[25,3,25,15],[25,16,25,25],[25,26,25,30],[26,3,26,15],[26,16,26,25],[26,26,26,30],[27,3,27,15],[27,16,27,25],[27,26,27,30],[28,3,28,15],[28,16,28,25],[28,26,28,30],[29,3,29,15],[29,16,29,25],[29,26,29,30],[33,16,33,25],[33,26,33,30],[30,3,30,15],[30,16,30,25],[30,26,30,30],[31,3,31,15],[31,16,31,25],[31,26,31,30],[38,25,38,30],[6,2,6,29],[37,5,37,11],[37,1,37,4],[37,18,37,24],[37,25,37,30],[34,3,34,15],[34,16,34,25],[34,26,34,30],[35,3,35,15],[35,16,35,25],[35,26,35,30],[32,3,32,15],[32,16,32,25],[32,26,32,30],[33,3,33,15],[14,3,14,15],[15,3,15,15],[14,16,14,25],[15,16,15,25],[14,26,14,30],[15,26,15,30]]}
[]
[null,"Протокол чемпионата по стандартам WorldSkills Russia"]
[null,"о жеребьевке по распределению конкурсных мест "]
[null,"Название чемпионата:",null,null,null,null,null,null,null,null,{"$f":"CONCATENATE(Чемп!A2,\" \",Чемп!B2,\" \",Чемп!C2,\" \",Чемп!D2,\" \",Чемп!E2)","v":"  V Регионального чемпионата \"Молодые профессионалы\" (WorldSkills Russia) в городе Севастополе   2020"}]
[null,"Компетенция:",null,null,null,null,null,null,null,null,{"$f":"CONCATENATE(Чемп!B4,\" \",Чемп!C4)","v":"№ (заполнить) Название (заполнить)"}]
[null,"ГЭ на площадке",null,null,null,null,null,null,null,null,null,null,null,{"$f":"CONCATENATE(Experts!B1,\" \",Experts!C1,\" \",Experts!D1)","v":"1 Имя Отчество"}]
[null,null,"Мы, нижеподписавшиеся Конкурсанты, подтверждаем, что жеребьевка была проведена справедливо и честно. Претензий не имеем."]
[]
[null,"№",null,"ФИО участника",null,null,null,null,null,null,null,null,null,null,null,null,"Комментарии и вопросы по проведенной жеребьевке (если есть)",null,null,null,null,null,null,null,null,null,"Подпись"]
[null,1,".",{"$f":"Competitors!F1","v":"Фамилия Имя Отчество"}]
[null,2,".",{"$f":"Competitors!F2","v":"Фамилия Имя Отчество"}]
[null,3,".",{"$f":"Competitors!F3","v":"Фамилия Имя Отчество"}]
[null,4,".",{"$f":"Competitors!F4","v":"Фамилия Имя Отчество"}]
[null,5,".",{"$f":"Competitors!F5","v":"Фамилия Имя Отчество"}]
[null,6,".",{"$f":"Competitors!F6","v":"Фамилия Имя Отчество"}]
[null,7,".",{"$f":"Competitors!F7","v":"Фамилия Имя Отчество"}]
[null,8,".",{"$f":"Competitors!F8","v":"Фамилия Имя Отчество"}]
[null,9,".",{"$f":"Competitors!F7","v":"Фамилия Имя Отчество"}]
[null,10,".",{"$f":"Competitors!F8","v":"Фамилия Имя Отчество"}]
[null,11,".",{"$f":"Competitors!F9","v":"Фамилия Имя Отчество"}]
[null,12,".",{"$f":"Competitors!F10","v":"Фамилия Имя Отчество"}]
[null,13,".",{"$f":"Competitors!F11","v":"Фамилия Имя Отчество"}]
[null,14,".",{"$f":"Competitors!F12","v":"Фамилия Имя Отчество"}]
[null,15,".",{"$f":"Competitors!F13","v":"Фамилия Имя Отчество"}]
[null,16,".",{"$f":"Competitors!F14","v":"Фамилия Имя Отчество"}]
[null,17,".",{"$f":"Competitors!F15","v":"  "}]
[null,18,".",{"$f":"Competitors!F16","v":"  "}]
[null,19,".",{"$f":"Competitors!F17","v":"  "}]
[null,20,".",{"$f":"Competitors!F18","v":"  "}]
[null,21,".",{"$f":"Competitors!F19","v":"  "}]
[null,22,".",{"$f":"Competitors!F20","v":"  "}]
[null,23,".",{"$f":"Competitors!F21","v":"  "}]
[null,24,".",{"$f":"Competitors!F22","v":"  "}]
[null,25,".",{"$f":"Competitors!F23","v":"  "}]
[null,26,".",{"$f":"Competitors!F24","v":"  "}]
[null,27,".",{"$f":"Competitors!F25","v":"  "}]
[]
[null,"Дата:",null,null,null,{"$f":"Чемп!B8","v":"2020-12-02"},null,null,null,null,null,null,null,null,null,null,null,null,"Главный эксперт"]
[null,null,null,null,null,null,null,null,null,null,null,null,null,null,null,null,null,null,null,null,null,null,null,null,null,"(подпись)"]

{"sheet":"У_РабМеста","index":12,"n_rows":37,"n_cols":27,"rows_kept":37,"cut":false,"hidden":false,"merged":[[9,3,9,15],[9,16,9,25],[9,26,9,30],[1,1,1,31],[2,1,2,30],[3,1,3,9],[3,10,3,30],[4,1,4,9],[5,1,5,12],[6,2,6,29],[8,1,8,2],[8,3,8,15],[8,16,8,25],[8,26,8,30],[10,3,10,15],[10,16,10,25],[10,26,10,30],[11,3,11,15],[11,16,11,25],[11,26,11,30],[15,3,15,15],[15,16,15,25],[15,26,15,30],[12,3,12,15],[12,16,12,25],[12,26,12,30],[13,3,13,15],[13,16,13,25],[13,26,13,30],[14,3,14,15],[14,16,14,25],[14,26,14,30],[16,3,16,15],[16,16,16,25],[16,26,16,30],[17,3,17,15],[17,16,17,25],[17,26,17,30],[18,3,18,15],[18,16,18,25],[18,26,18,30],[19,3,19,15],[19,16,19,25],[19,26,19,30],[20,3,20,15],[20,16,20,25],[20,26,20,30],[21,3,21,15],[21,16,21,25],[21,26,21,30],[22,3,22,15],[22,16,22,25],[22,26,22,30],[23,3,23,15],[23,16,23,25],[23,26,23,30],[24,3,24,15],[24,16,24,25],[24,26,24,30],[25,3,25,15],[25,16,25,25],[25,26,25,30],[29,3,29,15],[29,16,29,25],[29,26,29,30],[26,3,26,15],[26,16,26,25],[26,26,26,30],[27,3,27,15],[27,16,27,25],[27,26,27,30],[28,3,28,15],[28,16,28,25],[28,26,28,30],[36,25,36,30],[32,3,32,15],[32,16,32,25],[32,26,32,30],[33,3,33,15],[33,16,33,25],[33,26,33,30],[35,1,35,4],[35,5,35,10],[35,18,35,24],[35,25,35,30],[30,3,30,15],[30,16,30,25],[30,26,30,30],[31,3,31,15],[31,16,31,25],[31,26,31,30]]}
[]
[null,"Протокол чемпионата по стандартам WorldSkills Russia"]
[null,"ознакомлении конкурсантов с конкурсной документацией, оборудованием \nи рабочими местами \n"]
[null,"Название чемпионата:",null,null,null,null,null,null,null,null,{"$f":"CONCATENATE(Чемп!A2,\" \",Чемп!B2,\" \",Чемп!C2,\" \",Чемп!D2,\" \",Чемп!E2)","v":"  V Регионального чемпионата \"Молодые профессионалы\" (WorldSkills Russia) в городе Севастополе   2020"}]
[null,"Компетенция:",null,null,null,null,null,null,null,null,{"$f":"CONCATENATE(Чемп!B4,\" \",Чемп!C4)","v":"№ (заполнить) Название (заполнить)"}]
[null,"ГЭ на площадке",null,null,null,null,null,null,null,null,null,null,null,{"$f":"CONCATENATE(Experts!B1,\" \",Experts!C1,\" \",Experts!D1)","v":"1 Имя Отчество"}]
[null,null,"Мы, нижеподписавшиеся подтверждаем, что нам была предоставлена возможность полноценно ознакомиться с актуальным конкурсным заданием, критериями оценки, регламентом чемпионата, кодексом этики, а также оборудованием и рабочими местами на конкурсной площадке, протестировать оборудование в течение необходимого для ознакомления времени (не менее 2 часов), получены и изучены инструкции по использованию инструментом, расходными материалами. Конкурсную документацию внимательно изучил, вопросов не имею, умение пользоваться оборудованием и расходными материалами подтверждаю. Инструктаж по Правилам охраны труда получил в полном объеме, обязуюсь соблюдать все требования"]
[]
[null,"№ п.п.",null,"ФИО участника",null,null,null,null,null,null,null,null,null,null,null,null,"Комментарии и недопонимание по полученной информации и инструктажу (если есть)",null,null,null,null,null,null,null,null,null,"Подпись"]
[null,1,".",{"$f":"Competitors!F1","v":"Фамилия Имя Отчество"}]
[null,2,".",{"$f":"Competitors!F2","v":"Фамилия Имя Отчество"}]
[null,3,".",{"$f":"Competitors!F3","v":"Фамилия Имя Отчество"}]
[null,4,".",{"$f":"Competitors!F4","v":"Фамилия Имя Отчество"}]
[null,5,".",{"$f":"Competitors!F5","v":"Фамилия Имя Отчество"}]
[null,6,".",{"$f":"Competitors!F6","v":"Фамилия Имя Отчество"}]
[null,7,".",{"$f":"Competitors!F7","v":"Фамилия Имя Отчество"}]
[null,8,".",{"$f":"Competitors!F8","v":"Фамилия Имя Отчество"}]
[null,9,".",{"$f":"Competitors!F9","v":"Фамилия Имя Отчество"}]
[null,10,".",{"$f":"Competitors!F10","v":"Фамилия Имя Отчество"}]
[null,11,".",{"$f":"Competitors!F11","v":"Фамилия Имя Отчество"}]
[null,12,".",{"$f":"Competitors!F12","v":"Фамилия Имя Отчество"}]
[null,13,".",{"$f":"Competitors!F13","v":"Фамилия Имя Отчество"}]
[null,14,".",{"$f":"Competitors!F14","v":"Фамилия Имя Отчество"}]
[null,15,".",{"$f":"Competitors!F15","v":"  "}]
[null,16,".",{"$f":"Competitors!F16","v":"  "}]
[null,17,".",{"$f":"Competitors!F17","v":"  "}]
[null,18,".",{"$f":"Competitors!F18","v":"  "}]
[null,19,".",{"$f":"Competitors!F19","v":"  "}]
[null,20,".",{"$f":"Competitors!F20","v":"  "}]
[null,21,".",{"$f":"Competitors!F21","v":"  "}]
[null,22,".",{"$f":"Competitors!F22","v":"  "}]
[null,23,".",{"$f":"Competitors!F23","v":"  "}]
[null,24,".",{"$f":"Competitors!F24","v":"  "}]
[null,25,".",{"$f":"Competitors!F25","v":"  "}]
[]
[null,"Дата:",null,null,null,{"$f":"Чемп!B8","v":"2020-12-02"},null,null,null,null,null,null,null,null,null,null,null,null,"Главный эксперт"]
[null,null,null,null,null,null,null,null,null,null,null,null,null,null,null,null,null,null,null,null,null,null,null,null,null,"(подпись)"]

{"sheet":"Э_РегЕжедн","index":13,"n_rows":31,"n_cols":27,"rows_kept":31,"cut":false,"hidden":true,"merged":[[24,15,24,20],[24,21,24,25],[24,26,24,29],[25,15,25,20],[25,21,25,25],[25,26,25,29],[26,15,26,20],[26,21,26,25],[26,26,26,29],[27,15,27,20],[27,21,27,25],[27,26,27,29],[20,15,20,20],[20,21,20,25],[20,26,20,29],[21,15,21,20],[21,21,21,25],[21,26,21,29],[22,15,22,20],[22,21,22,25],[22,26,22,29],[23,15,23,20],[23,21,23,25],[23,26,23,29],[19,26,19,29],[16,15,16,20],[16,21,16,25],[16,26,16,29],[17,15,17,20],[17,21,17,25],[17,26,17,29],[13,2,13,14],[14,2,14,14],[7,26,7,29],[8,15,8,20],[8,21,8,25],[8,26,8,29],[9,15,9,20],[9,21,9,25],[9,26,9,29],[14,15,14,20],[14,21,14,25],[14,26,14,29],[12,15,12,20],[12,21,12,25],[12,26,12,29],[13,15,13,20],[19,2,19,14],[20,2,20,14],[17,2,17,14],[18,2,18,14],[15,2,15,14],[16,2,16,14],[25,2,25,14],[26,2,26,14],[23,2,23,14],[24,2,24,14],[21,2,21,14],[22,2,22,14],[27,2,27,14],[29,0,29,3],[29,4,29,10],[29,17,29,23],[29,24,29,29],[7,15,7,20],[30,24,30,29],[6,26,6,29],[6,21,6,25],[6,15,6,20],[7,21,7,25],[15,15,15,20],[15,21,15,25],[15,26,15,29],[13,21,13,25],[13,26,13,29],[18,15,18,20],[18,21,18,25],[18,26,18,29],[19,15,19,20],[19,21,19,25],[10,15,10,20],[10,21,10,25],[10,26,10,29],[11,15,11,20],[11,21,11,25],[11,26,11,29],[6,0,6,1],[6,2,6,14],[12,2,12,14],[11,2,11,14],[9,2,9,14],[10,2,10,14],[7,2,7,14],[8,2,8,14],[1,2,1,27],[2,0,2,8],[3,0,3,8],[4,0,4,11],[2,9,2,31]]}
[]
[null,null,"Протокол регистрации экспертов чемпионата по стандартам Worldskills Russia на конкурсной площадке в дни соревнований"]
["Название чемпионата:",null,null,null,null,null,null,null,null,{"$f":"CONCATENATE(Чемп!A2,\" \",Чемп!B2,\" \",Чемп!C2,\" \",Чемп!D2,\" \",Чемп!E2)","v":"  V Регионального чемпионата \"Молодые профессионалы\" (WorldSkills Russia) в городе Севастополе   2020"}]
["Компетенция:",null,null,null,null,null,null,null,null,{"$f":"CONCATENATE(Чемп!B4,\" \",Чемп!C4)","v":"№ (заполнить) Название (заполнить)"}]
["ГЭ на площадке",null,null,null,null,null,null,null,null,null,null,null,{"$f":"CONCATENATE(Experts!B1,\" \",Experts!C1,\" \",Experts!D1)","v":"1 Имя Отчество"}]
[]
["№ п.п.",null,"ФИО эксперта",null,null,null,null,null,null,null,null,null,null,null,null,"2018-04-24",null,null,null,null,null,"2018-04-25",null,null,null,null,{"$f":"Чемп!B11","v":"2020-12-05"}]
[1,".",{"$f":"Experts!F1","v":"1 Имя Отчество"}]
[2,".",{"$f":"Experts!F2","v":"2 Имя Отчество"}]
[3,".",{"$f":"Experts!F3","v":"3 Имя Отчество"}]
[4,".",{"$f":"Experts!F4","v":"4 Имя Отчество"}]
[5,".",{"$f":"Experts!F5","v":"5 Имя Отчество"}]
[6,".",{"$f":"Experts!F6","v":"6 Имя Отчество"}]
[7,".",{"$f":"Experts!F7","v":"7 Имя Отчество"}]
[8,".",{"$f":"Experts!F8","v":"8 Имя Отчество"}]
[9,".",{"$f":"Experts!F9","v":"9 Имя Отчество"}]
[10,".",{"$f":"Experts!F10","v":"0 Имя Отчество"}]
[15,".",{"$f":"Experts!F11","v":"  "}]
[16,".",{"$f":"Experts!F16","v":"  "}]
[17,".",{"$f":"Experts!F17","v":"  "}]
[18,".",{"$f":"Experts!F18","v":"  "}]
[19,".",{"$f":"Experts!F19","v":"  "}]
[20,".",{"$f":"Experts!F20","v":"  "}]
[21,".",{"$f":"Experts!F21","v":"  "}]
[22,".",{"$f":"Experts!F22","v":"  "}]
[23,".",{"$f":"Experts!F23","v":"  "}]
[24,".",{"$f":"Experts!F24","v":"  "}]
[25,".",{"$f":"Experts!F25","v":"  "}]
[]
[null,null,null,null,null,null,null,null,null,null,null,null,null,null,null,null,null,"Главный эксперт"]
[null,null,null,null,null,null,null,null,null,null,null,null,null,null,null,null,null,null,null,null,null,null,null,null,"(подпись)"]

{"sheet":"У_РегЕжедн","index":14,"n_rows":35,"n_cols":25,"rows_kept":35,"cut":false,"hidden":true,"merged":[[34,24,34,29],[31,2,31,14],[31,15,31,20],[31,21,31,25],[31,26,31,29],[33,0,33,3],[33,4,33,10],[33,17,33,23],[33,24,33,29],[29,2,29,14],[29,15,29,20],[29,21,29,25],[29,26,29,29],[30,2,30,14],[30,15,30,20],[30,21,30,25],[30,26,30,29],[27,2,27,14],[27,15,27,20],[27,21,27,25],[27,26,27,29],[28,2,28,14],[28,15,28,20],[28,21,28,25],[28,26,28,29],[25,2,25,14],[25,15,25,20],[25,21,25,25],[25,26,25,29],[26,2,26,14],[26,15,26,20],[26,21,26,25],[26,26,26,29],[23,2,23,14],[23,15,23,20],[23,21,23,25],[23,26,23,29],[24,2,24,14],[24,15,24,20],[24,21,24,25],[24,26,24,29],[21,2,21,14],[21,15,21,20],[21,21,21,25],[21,26,21,29],[22,2,22,14],[22,15,22,20],[22,21,22,25],[22,26,22,29],[19,2,19,14],[19,15,19,20],[19,21,19,25],[19,26,19,29],[20,2,20,14],[20,15,20,20],[20,21,20,25],[20,26,20,29],[17,2,17,14],[17,15,17,20],[17,21,17,25],[17,26,17,29],[18,2,18,14],[18,15,18,20],[18,21,18,25],[18,26,18,29],[15,2,15,14],[15,15,15,20],[15,21,15,25],[15,26,15,29],[16,2,16,14],[16,15,16,20],[16,21,16,25],[16,26,16,29],[13,2,13,14],[13,15,13,20],[13,21,13,25],[13,26,13,29],[14,2,14,14],[14,15,14,20],[14,21,14,25],[14,26,14,29],[11,2,11,14],[11,15,11,20],[11,21,11,25],[11,26,11,29],[12,2,12,14],[12,15,12,20],[12,21,12,25],[12,26,12,29],[9,2,9,14],[9,15,9,20],[9,21,9,25],[9,26,9,29],[10,2,10,14],[10,15,10,20],[10,21,10,25],[10,26,10,29],[7,2,7,14],[7,15,7,20],[7,21,7,25],[7,26,7,29],[8,2,8,14],[8,15,8,20],[8,21,8,25],[8,26,8,29],[1,2,1,27],[2,0,2,8],[2,9,2,29],[3,0,3,8],[4,0,4,11],[6,0,6,1],[6,2,6,14],[6,15,6,20],[6,21,6,25],[6,26,6,29]]}
[]
[null,null,"Протокол регистрации участников чемпионата по стандартам Worldskills Russia на конкурсной площадке в дни соревнований"]
["Название чемпионата:",null,null,null,null,null,null,null,null,{"$f":"CONCATENATE(Чемп!A2,\" \",Чемп!B2,\" \",Чемп!C2,\" \",Чемп!D2,\" \",Чемп!E2)","v":"  V Регионального чемпионата \"Молодые профессионалы\" (WorldSkills Russia) в городе Севастополе   2020"}]
["Компетенция:",null,null,null,null,null,null,null,null,{"$f":"CONCATENATE(Чемп!B4,\" \",Чемп!C4)","v":"№ (заполнить) Название (заполнить)"}]
["ГЭ на площадке",null,null,null,null,null,null,null,null,null,null,null,{"$f":"CONCATENATE(Experts!B1,\" \",Experts!C1,\" \",Experts!D1)","v":"1 Имя Отчество"}]
[]
["№ п.п.",null,"ФИО эксперта",null,null,null,null,null,null,null,null,null,null,null,null,{"$f":"Чемп!B9","v":"2020-12-03"},null,null,null,null,null,{"$f":"Чемп!B10","v":"2020-12-04"}]
[1,".",{"$f":"Competitors!F1","v":"Фамилия Имя Отчество"}]
[2,".",{"$f":"Competitors!F2","v":"Фамилия Имя Отчество"}]
[3,".",{"$f":"Competitors!F3","v":"Фамилия Имя Отчество"}]
[4,".",{"$f":"Competitors!F4","v":"Фамилия Имя Отчество"}]
[5,".",{"$f":"Competitors!F5","v":"Фамилия Имя Отчество"}]
[6,".",{"$f":"Competitors!F6","v":"Фамилия Имя Отчество"}]
[7,".",{"$f":"Competitors!F7","v":"Фамилия Имя Отчество"}]
[8,".",{"$f":"Competitors!F8","v":"Фамилия Имя Отчество"}]
[9,".",{"$f":"Competitors!F9","v":"Фамилия Имя Отчество"}]
[10,".",{"$f":"Competitors!F10","v":"Фамилия Имя Отчество"}]
[11,".",{"$f":"Competitors!F11","v":"Фамилия Имя Отчество"}]
[12,".",{"$f":"Competitors!F12","v":"Фамилия Имя Отчество"}]
[13,".",{"$f":"Competitors!F13","v":"Фамилия Имя Отчество"}]
[14,".",{"$f":"Competitors!F14","v":"Фамилия Имя Отчество"}]
[15,".",{"$f":"Competitors!F15","v":"  "}]
[16,".",{"$f":"Competitors!F16","v":"  "}]
[17,".",{"$f":"Competitors!F17","v":"  "}]
[18,".",{"$f":"Competitors!F18","v":"  "}]
[19,".",{"$f":"Competitors!F19","v":"  "}]
[20,".",{"$f":"Competitors!F20","v":"  "}]
[21,".",{"$f":"Competitors!F21","v":"  "}]
[22,".",{"$f":"Competitors!F22","v":"  "}]
[23,".",{"$f":"Competitors!F23","v":"  "}]
[24,".",{"$f":"Competitors!F24","v":"  "}]
[25,".",{"$f":"Competitors!F25","v":"  "}]
[]
[null,null,null,null,null,null,null,null,null,null,null,null,null,null,null,null,null,"Главный эксперт"]
[null,null,null,null,null,null,null,null,null,null,null,null,null,null,null,null,null,null,null,null,null,null,null,null,"(подпись)"]

{"sheet":"У_НДок","index":15,"n_rows":37,"n_cols":27,"rows_kept":37,"cut":false,"hidden":false,"merged":[[8,1,8,2],[8,3,8,15],[8,16,8,25],[8,26,8,30],[9,3,9,15],[9,16,9,25],[9,26,9,30],[5,1,5,12],[1,1,1,31],[2,1,2,30],[3,1,3,9],[3,10,3,30],[4,1,4,9],[10,26,10,30],[11,3,11,15],[11,16,11,25],[11,26,11,30],[12,3,12,15],[12,16,12,25],[12,26,12,30],[10,3,10,15],[10,16,10,25],[13,3,13,15],[13,16,13,25],[13,26,13,30],[16,26,16,30],[17,3,17,15],[17,16,17,25],[17,26,17,30],[15,3,15,15],[15,16,15,25],[15,26,15,30],[14,3,14,15],[16,3,16,15],[16,16,16,25],[14,16,14,25],[14,26,14,30],[20,26,20,30],[21,3,21,15],[21,16,21,25],[21,26,21,30],[18,3,18,15],[18,16,18,25],[18,26,18,30],[19,3,19,15],[19,16,19,25],[19,26,19,30],[20,3,20,15],[20,16,20,25],[24,26,24,30],[25,3,25,15],[25,16,25,25],[25,26,25,30],[22,3,22,15],[22,16,22,25],[22,26,22,30],[23,3,23,15],[23,16,23,25],[23,26,23,30],[36,25,36,30],[6,2,6,29],[32,3,32,15],[32,16,32,25],[32,26,32,30],[33,3,33,15],[33,16,33,25],[33,26,33,30],[30,3,30,15],[30,16,30,25],[30,26,30,30],[31,3,31,15],[31,16,31,25],[31,26,31,30],[28,3,28,15],[28,26,28,30],[35,1,35,4],[35,5,35,10],[35,18,35,24],[28,16,28,25],[24,3,24,15],[24,16,24,25],[35,25,35,30],[29,3,29,15],[29,16,29,25],[29,26,29,30],[26,3,26,15],[26,16,26,25],[26,26,26,30],[27,3,27,15],[27,16,27,25],[27,26,27,30]]}
[]
[null,"Протокол чемпионата  по стандартам Worldskills Russia "]
[null,"об ознакомлении Конкурсантов с нормативной документацией "]
[null,"Название чемпионата:",null,null,null,null,null,null,null,null,{"$f":"CONCATENATE(Чемп!A2,\" \",Чемп!B2,\" \",Чемп!C2,\" \",Чемп!D2,\" \",Чемп!E2)","v":"  V Регионального чемпионата \"Молодые профессионалы\" (WorldSkills Russia) в городе Севастополе   2020"}]
[null,"Компетенция:",null,null,null,null,null,null,null,null,{"$f":"CONCATENATE(Чемп!B4,\" \",Чемп!C4)","v":"№ (заполнить) Название (заполнить)"}]
[null,"ГЭ на площадке",null,null,null,null,null,null,null,null,null,null,null,{"$f":"CONCATENATE(Experts!B1,\" \",Experts!C1,\" \",Experts!D1)","v":"1 Имя Отчество"}]
[null,null,"Мы, нижеподписавшиеся, подтверждаем, что нам была предоставлена возможность полноценно ознакомиться с актуальным регламентом чемпионата и кодексом этики. "]
[]
[null,"№ п.п.",null,"ФИО участника",null,null,null,null,null,null,null,null,null,null,null,null,"Комментарии и недопонимание по полученной информации и инструктажу (если есть)",null,null,null,null,null,null,null,null,null,"Подпись"]
[null,1,".",{"$f":"Competitors!F1","v":"Фамилия Имя Отчество"}]
[null,2,".",{"$f":"Competitors!F2","v":"Фамилия Имя Отчество"}]
[null,3,".",{"$f":"Competitors!F3","v":"Фамилия Имя Отчество"}]
[null,4,".",{"$f":"Competitors!F4","v":"Фамилия Имя Отчество"}]
[null,5,".",{"$f":"Competitors!F5","v":"Фамилия Имя Отчество"}]
[null,6,".",{"$f":"Competitors!F6","v":"Фамилия Имя Отчество"}]
[null,7,".",{"$f":"Competitors!F7","v":"Фамилия Имя Отчество"}]
[null,8,".",{"$f":"Competitors!F8","v":"Фамилия Имя Отчество"}]
[null,9,".",{"$f":"Competitors!F9","v":"Фамилия Имя Отчество"}]
[null,10,".",{"$f":"Competitors!F10","v":"Фамилия Имя Отчество"}]
[null,11,".",{"$f":"Competitors!F11","v":"Фамилия Имя Отчество"}]
[null,12,".",{"$f":"Competitors!F12","v":"Фамилия Имя Отчество"}]
[null,13,".",{"$f":"Competitors!F13","v":"Фамилия Имя Отчество"}]
[null,14,".",{"$f":"Competitors!F14","v":"Фамилия Имя Отчество"}]
[null,17,".",{"$f":"Competitors!F15","v":"  "}]
[null,18,".",{"$f":"Competitors!F16","v":"  "}]
[null,19,".",{"$f":"Competitors!F17","v":"  "}]
[null,20,".",{"$f":"Competitors!F18","v":"  "}]
[null,21,".",{"$f":"Competitors!F19","v":"  "}]
[null,22,".",{"$f":"Competitors!F20","v":"  "}]
[null,23,".",{"$f":"Competitors!F21","v":"  "}]
[null,24,".",{"$f":"Competitors!F22","v":"  "}]
[null,25,".",{"$f":"Competitors!F23","v":"  "}]
[null,26,".",{"$f":"Competitors!F24","v":"  "}]
[null,27,".",{"$f":"Competitors!F25","v":"  "}]
[]
[null,"Дата:",null,null,null,{"$f":"Чемп!B8","v":"2020-12-02"},null,null,null,null,null,null,null,null,null,null,null,null,"Главный эксперт"]
[null,null,null,null,null,null,null,null,null,null,null,null,null,null,null,null,null,null,null,null,null,null,null,null,null,"(подпись)"]

{"sheet":"У_КДок","index":16,"n_rows":37,"n_cols":27,"rows_kept":37,"cut":false,"hidden":false,"merged":[[9,3,9,15],[9,16,9,25],[9,26,9,30],[1,1,1,31],[2,1,2,30],[3,1,3,9],[3,10,3,30],[4,1,4,9],[5,1,5,12],[6,2,6,29],[8,1,8,2],[8,3,8,15],[8,16,8,25],[8,26,8,30],[10,3,10,15],[10,16,10,25],[10,26,10,30],[11,3,11,15],[11,16,11,25],[11,26,11,30],[15,3,15,15],[15,16,15,25],[15,26,15,30],[12,3,12,15],[12,16,12,25],[12,26,12,30],[13,3,13,15],[13,16,13,25],[13,26,13,30],[14,3,14,15],[14,16,14,25],[14,26,14,30],[16,3,16,15],[16,16,16,25],[16,26,16,30],[17,3,17,15],[17,16,17,25],[17,26,17,30],[18,3,18,15],[18,16,18,25],[18,26,18,30],[19,3,19,15],[19,16,19,25],[19,26,19,30],[20,3,20,15],[20,16,20,25],[20,26,20,30],[21,3,21,15],[21,16,21,25],[21,26,21,30],[22,3,22,15],[22,16,22,25],[22,26,22,30],[23,3,23,15],[23,16,23,25],[23,26,23,30],[24,3,24,15],[24,16,24,25],[24,26,24,30],[25,3,25,15],[25,16,25,25],[25,26,25,30],[26,3,26,15],[26,16,26,25],[26,26,26,30],[27,3,27,15],[27,16,27,25],[27,26,27,30],[28,3,28,15],[28,16,28,25],[28,26,28,30],[29,3,29,15],[29,16,29,25],[29,26,29,30],[30,3,30,15],[30,16,30,25],[30,26,30,30],[31,3,31,15],[31,16,31,25],[31,26,31,30],[32,3,32,15],[32,16,32,25],[32,26,32,30],[33,3,33,15],[33,16,33,25],[33,26,33,30],[35,1,35,4],[35,5,35,10],[35,18,35,24],[35,25,35,30],[36,25,36,30]]}
[]
[null,"Протокол чемпионата  по стандартам Worldskills Russia "]
[null,"об ознакомлении Конкурсантов с конкурсной документацией "]
[null,"Название чемпионата:",null,null,null,null,null,null,null,null,{"$f":"CONCATENATE(Чемп!A2,\" \",Чемп!B2,\" \",Чемп!C2,\" \",Чемп!D2,\" \",Чемп!E2)","v":"  V Регионального чемпионата \"Молодые профессионалы\" (WorldSkills Russia) в городе Севастополе   2020"}]
[null,"Компетенция:",null,null,null,null,null,null,null,null,{"$f":"CONCATENATE(Чемп!B4,\" \",Чемп!C4)","v":"№ (заполнить) Название (заполнить)"}]
[null,"ГЭ на площадке",null,null,null,null,null,null,null,null,null,null,null,{"$f":"CONCATENATE(Experts!B1,\" \",Experts!C1,\" \",Experts!D1)","v":"1 Имя Отчество"}]
[null,null,"Мы, нижеподписавшиеся, подтверждаем, что нам была предоставлена возможность полноценно ознакомиться с актуальным конкурсным заданием. Конкурсную документацию внимательно изучил, вопросов не имею. "]
[]
[null,"№ п.п.",null,"ФИО участника",null,null,null,null,null,null,null,null,null,null,null,null,"Комментарии и недопонимание по полученной информации и инструктажу (если есть)",null,null,null,null,null,null,null,null,null,"Подпись"]
[null,1,".",{"$f":"Competitors!F1","v":"Фамилия Имя Отчество"}]
[null,2,".",{"$f":"Competitors!F2","v":"Фамилия Имя Отчество"}]
[null,3,".",{"$f":"Competitors!F3","v":"Фамилия Имя Отчество"}]
[null,4,".",{"$f":"Competitors!F4","v":"Фамилия Имя Отчество"}]
[null,5,".",{"$f":"Competitors!F5","v":"Фамилия Имя Отчество"}]
[null,6,".",{"$f":"Competitors!F6","v":"Фамилия Имя Отчество"}]
[null,7,".",{"$f":"Competitors!F7","v":"Фамилия Имя Отчество"}]
[null,8,".",{"$f":"Competitors!F8","v":"Фамилия Имя Отчество"}]
[null,9,".",{"$f":"Competitors!F9","v":"Фамилия Имя Отчество"}]
[null,10,".",{"$f":"Competitors!F10","v":"Фамилия Имя Отчество"}]
[null,11,".",{"$f":"Competitors!F11","v":"Фамилия Имя Отчество"}]
[null,12,".",{"$f":"Competitors!F12","v":"Фамилия Имя Отчество"}]
[null,13,".",{"$f":"Competitors!F13","v":"Фамилия Имя Отчество"}]
[null,14,".",{"$f":"Competitors!F14","v":"Фамилия Имя Отчество"}]
[null,15,".",{"$f":"Competitors!F15","v":"  "}]
[null,16,".",{"$f":"Competitors!F16","v":"  "}]
[null,17,".",{"$f":"Competitors!F17","v":"  "}]
[null,18,".",{"$f":"Competitors!F18","v":"  "}]
[null,19,".",{"$f":"Competitors!F19","v":"  "}]
[null,20,".",{"$f":"Competitors!F20","v":"  "}]
[null,21,".",{"$f":"Competitors!F21","v":"  "}]
[null,22,".",{"$f":"Competitors!F22","v":"  "}]
[null,23,".",{"$f":"Competitors!F23","v":"  "}]
[null,24,".",{"$f":"Competitors!F24","v":"  "}]
[null,25,".",{"$f":"Competitors!F25","v":"  "}]
[]
[null,"Дата:",null,null,null,{"$f":"Чемп!B8","v":"2020-12-02"},null,null,null,null,null,null,null,null,null,null,null,null,"Главный эксперт"]
[null,null,null,null,null,null,null,null,null,null,null,null,null,null,null,null,null,null,null,null,null,null,null,null,null,"(подпись)"]

{"sheet":"У_Тулбокс","index":17,"n_rows":38,"n_cols":27,"rows_kept":38,"cut":false,"hidden":false,"merged":[[5,1,5,12],[1,1,1,31],[2,1,2,30],[3,1,3,9],[3,10,3,30],[4,1,4,9],[6,2,6,29],[8,1,8,2],[8,26,8,30],[9,26,9,30],[8,3,8,25],[9,3,9,25],[12,26,12,30],[13,26,13,30],[10,26,10,30],[11,26,11,30],[10,3,10,25],[11,3,11,25],[12,3,12,25],[13,3,13,25],[17,26,17,30],[18,26,18,30],[17,3,17,25],[18,3,18,25],[14,26,14,30],[15,26,15,30],[16,26,16,30],[14,3,14,25],[15,3,15,25],[16,3,16,25],[19,26,19,30],[20,26,20,30],[21,26,21,30],[19,3,19,25],[20,3,20,25],[21,3,21,25],[24,26,24,30],[25,26,25,30],[24,3,24,25],[25,3,25,25],[22,26,22,30],[23,26,23,30],[22,3,22,25],[23,3,23,25],[28,26,28,30],[29,26,29,30],[28,3,28,25],[29,3,29,25],[26,26,26,30],[27,26,27,30],[26,3,26,25],[27,3,27,25],[32,26,32,30],[33,26,33,30],[32,3,32,25],[33,3,33,25],[30,26,30,30],[31,26,31,30],[30,3,30,25],[31,3,31,25],[37,25,37,30],[34,26,34,30],[36,1,36,4],[36,5,36,10],[36,18,36,24],[36,25,36,30],[34,3,34,25]]}
[]
[null,"Протокол чемпионата  по стандартам Worldskills Russia "]
[null,"о проверке Тулбокса конкурсанта"]
[null,"Название чемпионата:",null,null,null,null,null,null,null,null,{"$f":"CONCATENATE(Чемп!A2,\" \",Чемп!B2,\" \",Чемп!C2,\" \",Чемп!D2,\" \",Чемп!E2)","v":"  V Регионального чемпионата \"Молодые профессионалы\" (WorldSkills Russia) в городе Севастополе   2020"}]
[null,"Компетенция:",null,null,null,null,null,null,null,null,{"$f":"CONCATENATE(Чемп!B4,\" \",Чемп!C4)","v":"№ (заполнить) Название (заполнить)"}]
[null,"ГЭ на площадке",null,null,null,null,null,null,null,null,null,null,null,{"$f":"CONCATENATE(Experts!B1,\" \",Experts!C1,\" \",Experts!D1)","v":"1 Имя Отчество"}]
[null,null,"Тулбоксы на проверку не предоставлены. Участники используют оборудование площадки."]
[]
[null,"№ п.п.",null,"ФИО участника",null,null,null,null,null,null,null,null,null,null,null,null,null,null,null,null,null,null,null,null,null,null,"Подпись проверяющего"]
[null,1,".",{"$f":"Experts!F1","v":"1 Имя Отчество"}]
[null,2,".",{"$f":"Experts!F2","v":"2 Имя Отчество"}]
[null,3,".",{"$f":"Experts!F3","v":"3 Имя Отчество"}]
[null,4,".",{"$f":"Experts!F4","v":"4 Имя Отчество"}]
[null,5,".",{"$f":"Experts!F5","v":"5 Имя Отчество"}]
[null,6,".",{"$f":"Experts!F6","v":"6 Имя Отчество"}]
[null,7,".",{"$f":"Experts!F7","v":"7 Имя Отчество"}]
[null,8,".",{"$f":"Experts!F8","v":"8 Имя Отчество"}]
[null,9,".",{"$f":"Experts!F9","v":"9 Имя Отчество"}]
[null,10,".",{"$f":"Experts!F10","v":"0 Имя Отчество"}]
[null,10,".",{"$f":"Experts!F11","v":"  "}]
[null,11,".",{"$f":"Experts!F12","v":"  "}]
[null,12,".",{"$f":"Experts!F13","v":"  "}]
[null,13,".",{"$f":"Experts!F14","v":"  "}]
[null,14,".",{"$f":"Experts!F15","v":"  "}]
[null,15,".",{"$f":"Experts!F16","v":"  "}]
[null,16,".",{"$f":"Experts!F17","v":"  "}]
[null,17,".",{"$f":"Experts!F18","v":"  "}]
[null,18,".",{"$f":"Experts!F19","v":"  "}]
[null,19,".",{"$f":"Experts!F20","v":"  "}]
[null,20,".",{"$f":"Experts!F21","v":"  "}]
[null,21,".",{"$f":"Experts!F22","v":"  "}]
[null,22,".",{"$f":"Experts!F23","v":"  "}]
[null,23,".",{"$f":"Experts!F24","v":"  "}]
[null,24,".",{"$f":"Experts!F25","v":"  "}]
[null,25,".",{"$f":"Experts!F26","v":"  "}]
[]
[null,"Дата:",null,null,null,{"$f":"Чемп!B8","v":"2020-12-02"},null,null,null,null,null,null,null,null,null,null,null,null,"Главный эксперт"]
[null,null,null,null,null,null,null,null,null,null,null,null,null,null,null,null,null,null,null,null,null,null,null,null,null,"(подпись)"]

{"sheet":"ВнешСит","index":18,"n_rows":34,"n_cols":27,"rows_kept":34,"cut":false,"hidden":false,"merged":[[1,1,1,31],[2,1,2,30],[3,1,3,9],[3,10,3,30],[4,1,4,9],[5,1,5,12],[9,16,9,25],[9,26,9,30],[10,16,10,25],[10,26,10,30],[9,7,9,15],[10,7,10,15],[7,1,7,2],[7,16,7,25],[7,26,7,30],[8,16,8,25],[8,26,8,30],[7,7,7,15],[8,7,8,15],[13,16,13,25],[13,26,13,30],[13,3,13,6],[13,7,13,15],[11,16,11,25],[11,26,11,30],[12,16,12,25],[12,26,12,30],[12,3,12,6],[11,7,11,15],[12,7,12,15],[15,16,15,25],[15,26,15,30],[16,16,16,25],[16,26,16,30],[15,3,15,6],[16,3,16,6],[15,7,15,15],[16,7,16,15],[14,16,14,25],[14,26,14,30],[14,3,14,6],[14,7,14,15],[19,16,19,25],[19,26,19,30],[20,16,20,25],[20,26,20,30],[19,3,19,6],[20,3,20,6],[19,7,19,15],[20,7,20,15],[17,16,17,25],[17,26,17,30],[18,16,18,25],[18,26,18,30],[17,3,17,6],[18,3,18,6],[17,7,17,15],[18,7,18,15],[23,16,23,25],[23,26,23,30],[24,16,24,25],[24,26,24,30],[23,3,23,6],[24,3,24,6],[23,7,23,15],[24,7,24,15],[21,16,21,25],[21,26,21,30],[22,16,22,25],[22,26,22,30],[21,3,21,6],[22,3,22,6],[21,7,21,15],[22,7,22,15],[27,7,27,15],[28,7,28,15],[25,16,25,25],[25,26,25,30],[26,16,26,25],[26,26,26,30],[25,3,25,6],[26,3,26,6],[25,7,25,15],[26,7,26,15],[32,1,32,4],[32,5,32,10],[32,18,32,24],[32,25,32,30],[33,25,33,30],[7,3,7,6],[8,3,8,6],[9,3,9,6],[10,3,10,6],[11,3,11,6],[29,16,29,25],[29,26,29,30],[30,16,30,25],[30,26,30,30],[29,3,29,6],[30,3,30,6],[29,7,29,15],[30,7,30,15],[27,16,27,25],[27,26,27,30],[28,16,28,25],[28,26,28,30],[27,3,27,6],[28,3,28,6]]}
[]
[null,"Протокол чемпионата  по стандартам Worldskills Russia "]
[null,"о согласовании внештатных ситуаций "]
[null,"Название чемпионата:",null,null,null,null,null,null,null,null,{"$f":"CONCATENATE(Чемп!A2,\" \",Чемп!B2,\" \",Чемп!C2,\" \",Чемп!D2,\" \",Чемп!E2)","v":"  V Регионального чемпионата \"Молодые профессионалы\" (WorldSkills Russia) в городе Севастополе   2020"}]
[null,"Компетенция:",null,null,null,null,null,null,null,null,{"$f":"CONCATENATE(Чемп!B4,\" \",Чемп!C4)","v":"№ (заполнить) Название (заполнить)"}]
[null,"ГЭ на площадке",null,null,null,null,null,null,null,null,null,null,null,{"$f":"CONCATENATE(Experts!B1,\" \",Experts!C1,\" \",Experts!D1)","v":"1 Имя Отчество"}]
[]
[null,"№ п.п.",null,"№ раб. места",null,null,null,"Возникшая проблема",null,null,null,null,null,null,null,null,"Решение",null,null,null,null,null,null,null,null,null,"Подпись"]
[]
[]
[]
[]
[]
[]
[]
[]
[]
[]
[]
[]
[]
[]
[]
[]
[]
[]
[]
[]
[]
[]
[]
[]
[null,"Дата:",null,null,null,null,null,null,null,null,null,null,null,null,null,null,null,null,"Главный эксперт"]
[null,null,null,null,null,null,null,null,null,null,null,null,null,null,null,null,null,null,null,null,null,null,null,null,null,"(подпись)"]

{"sheet":"УчетВремени","index":19,"n_rows":32,"n_cols":27,"rows_kept":32,"cut":false,"hidden":false,"merged":[[5,1,5,12],[9,3,9,6],[9,7,9,15],[9,16,9,25],[9,26,9,30],[1,1,1,31],[2,1,2,30],[3,1,3,9],[3,10,3,30],[4,1,4,9],[10,3,10,6],[10,7,10,15],[10,16,10,25],[10,26,10,30],[7,1,7,2],[7,3,7,6],[7,7,7,15],[7,16,7,25],[7,26,7,30],[8,3,8,6],[8,7,8,15],[8,16,8,25],[8,26,8,30],[11,3,11,6],[11,7,11,15],[11,16,11,25],[11,26,11,30],[12,3,12,6],[12,7,12,15],[12,16,12,25],[12,26,12,30],[13,3,13,6],[13,7,13,15],[13,16,13,25],[13,26,13,30],[14,3,14,6],[14,7,14,15],[14,16,14,25],[14,26,14,30],[16,3,16,6],[16,7,16,15],[16,16,16,25],[16,26,16,30],[15,3,15,6],[15,7,15,15],[15,16,15,25],[15,26,15,30],[17,3,17,6],[17,7,17,15],[17,16,17,25],[17,26,17,30],[18,3,18,6],[18,7,18,15],[18,16,18,25],[18,26,18,30],[19,3,19,6],[19,7,19,15],[19,16,19,25],[19,26,19,30],[20,3,20,6],[20,7,20,15],[20,16,20,25],[20,26,20,30],[21,3,21,6],[21,7,21,15],[21,16,21,25],[21,26,21,30],[22,3,22,6],[22,7,22,15],[22,16,22,25],[22,26,22,30],[23,3,23,6],[23,7,23,15],[23,16,23,25],[23,26,23,30],[24,3,24,6],[24,7,24,15],[24,16,24,25],[24,26,24,30],[25,3,25,6],[25,7,25,15],[25,16,25,25],[25,26,25,30],[26,3,26,6],[26,7,26,15],[26,16,26,25],[26,26,26,30],[27,3,27,6],[27,7,27,15],[27,16,27,25],[27,26,27,30],[28,3,28,6],[28,7,28,15],[28,16,28,25],[28,26,28,30],[30,1,30,4],[30,5,30,10],[30,18,30,24],[30,25,30,30],[31,25,31,30]]}
[]
[null,"Протокол чемпионата  по стандартам Worldskills Russia "]
[null,"учета времени"]
[null,"Название чемпионата:",null,null,null,null,null,null,null,null,{"$f":"CONCATENATE(Чемп!A2,\" \",Чемп!B2,\" \",Чемп!C2,\" \",Чемп!D2,\" \",Чемп!E2)","v":"  V Регионального чемпионата \"Молодые профессионалы\" (WorldSkills Russia) в городе Севастополе   2020"}]
[null,"Компетенция:",null,null,null,null,null,null,null,null,{"$f":"CONCATENATE(Чемп!B4,\" \",Чемп!C4)","v":"№ (заполнить) Название (заполнить)"}]
[null,"ГЭ на площадке",null,null,null,null,null,null,null,null,null,null,null,{"$f":"CONCATENATE(Experts!B1,\" \",Experts!C1,\" \",Experts!D1)","v":"1 Имя Отчество"}]
[]
[null,"№ п.п.",null,"№ раб. места",null,null,null,"Остановка времени",null,null,null,null,null,null,null,null,"Старт времени",null,null,null,null,null,null,null,null,null,"Подпись"]
[]
[]
[]
[]
[]
[]
[]
[]
[]
[]
[]
[]
[]
[]
[]
[]
[]
[]
[]
[]
[]
[]
[null,"Дата:",null,null,null,null,null,null,null,null,null,null,null,null,null,null,null,null,"Главный эксперт"]
[null,null,null,null,null,null,null,null,null,null,null,null,null,null,null,null,null,null,null,null,null,null,null,null,null,"(подпись)"]

{"sheet":"ПожБез","index":20,"n_rows":12,"n_cols":27,"rows_kept":12,"cut":false,"hidden":true,"merged":[[5,1,5,12],[1,1,1,31],[2,1,2,30],[3,1,3,9],[3,10,3,30],[4,1,4,9],[7,3,7,25],[8,3,8,25],[7,1,7,2],[7,26,7,30],[8,26,8,30],[10,1,10,4],[10,5,10,10],[10,18,10,24],[10,25,10,30],[11,25,11,30]]}
[]
[null,"Протокол чемпионата  по стандартам Worldskills Russia "]
[null,"о назначении ответственного лица за пожарную безопасность"]
[null,"Название чемпионата:",null,null,null,null,null,null,null,null,{"$f":"CONCATENATE(Чемп!A2,\" \",Чемп!B2,\" \",Чемп!C2,\" \",Чемп!D2,\" \",Чемп!E2)","v":"  V Регионального чемпионата \"Молодые профессионалы\" (WorldSkills Russia) в городе Севастополе   2020"}]
[null,"Компетенция:",null,null,null,null,null,null,null,null,{"$f":"CONCATENATE(Чемп!B4,\" \",Чемп!C4)","v":"№ (заполнить) Название (заполнить)"}]
[null,"ГЭ на площадке",null,null,null,null,null,null,null,null,null,null,null,{"$f":"CONCATENATE(Experts!B1,\" \",Experts!C1,\" \",Experts!D1)","v":"1 Имя Отчество"}]
[]
[null,"№ п.п.",null,"ФИО эксперта ответственного за пожарную безопасность",null,null,null,null,null,null,null,null,null,null,null,null,null,null,null,null,null,null,null,null,null,null,"Подпись"]
[null,1,"."]
[]
[null,"Дата:",null,null,null,null,null,null,null,null,null,null,null,null,null,null,null,null,"Главный эксперт"]
[null,null,null,null,null,null,null,null,null,null,null,null,null,null,null,null,null,null,null,null,null,null,null,null,null,"(подпись)"]